|SUCCESS| pw138483 [PATCH] [v3] net/netvsc: fix number Tx queues > R
dpdklab at iol.unh.edu
dpdklab at iol.unh.edu
Tue Mar 19 18:42:03 CET 2024
Test-Label: iol-abi-testing
Test-Status: SUCCESS
http://dpdk.org/patch/138483
_Testing PASS_
Submitter: Alan Elder <alan.elder at microsoft.com>
Date: Tuesday, March 19 2024 14:16:46
DPDK git baseline: Repo:dpdk
Branch: master
CommitID:53483ccd6dee01b8930e7a8c391472453bbe642d
138483 --> testing pass
Test environment and result as below:
+------------------+----------+
| Environment | abi_test |
+==================+==========+
| CentOS Stream 9 | PASS |
+------------------+----------+
| Debian Bullseye | PASS |
+------------------+----------+
| CentOS Stream 8 | PASS |
+------------------+----------+
| openSUSE Leap 15 | PASS |
+------------------+----------+
CentOS Stream 9
Kernel: 5.4.0-167-generic
Compiler: gcc 11.4.1 20230605
Debian Bullseye
Kernel: 5.4.0-167-generic
Compiler: gcc 10.2.1-6
CentOS Stream 8
Kernel: 5.4.0-167-generic
Compiler: gcc 8.5.0 20210514
openSUSE Leap 15
Kernel: 5.4.0-167-generic
Compiler: gcc 7.5.0
To view detailed results, visit:
https://lab.dpdk.org/results/dashboard/patchsets/29596/
UNH-IOL DPDK Community Lab
To manage your email subscriptions, visit:
https://lab.dpdk.org/results/dashboard/preferences/subscriptions/
More information about the test-report
mailing list