|SUCCESS| pw138489-138488 [PATCH] [2/2] examples/l3fwd-power: add PM

dpdklab at iol.unh.edu dpdklab at iol.unh.edu
Wed Mar 20 12:57:16 CET 2024


Test-Label: iol-unit-arm64-testing
Test-Status: SUCCESS
http://dpdk.org/patch/138488

_Testing PASS_

Submitter: Huisong Li <lihuisong at huawei.com>
Date: Wednesday, March 20 2024 10:55:29 
DPDK git baseline: Repo:dpdk
  Branch: master
  CommitID:80ecef6d1f71fcebc0a51d7cabc51f73ee142ff2

138489-138488 --> testing pass

Test environment and result as below:

+--------------------------+----------------+---------------------------+
|       Environment        | dpdk_unit_test | cryptodev_sw_zuc_autotest |
+==========================+================+===========================+
| Debian 11 (Buster) (ARM) | PASS           | SKIPPED                   |
+--------------------------+----------------+---------------------------+
| Fedora 37 (ARM)          | PASS           | SKIPPED                   |
+--------------------------+----------------+---------------------------+
| Debian 12 (arm)          | PASS           | PASS                      |
+--------------------------+----------------+---------------------------+
| CentOS Stream 9 (ARM)    | PASS           | SKIPPED                   |
+--------------------------+----------------+---------------------------+
| Fedora 38 (ARM)          | PASS           | SKIPPED                   |
+--------------------------+----------------+---------------------------+


Debian 11 (Buster) (ARM)
	Kernel: Container Host Kernel
	Compiler: gcc 10.2.1

Fedora 37 (ARM)
	Kernel: Depends on container host
	Compiler: gcc 12.3.1

Debian 12 (arm)
	Kernel: Container Host Kernel
	Compiler: gcc 11

CentOS Stream 9 (ARM)
	Kernel: Container Host Kernel
	Compiler: gcc 11.4.1

Fedora 38 (ARM)
	Kernel: Depends on container host
	Compiler: gcc 13.2.1

To view detailed results, visit:
https://lab.dpdk.org/results/dashboard/patchsets/29600/

UNH-IOL DPDK Community Lab

To manage your email subscriptions, visit: 
https://lab.dpdk.org/results/dashboard/preferences/subscriptions/


More information about the test-report mailing list