|SUCCESS| pw138490 [PATCH] devtools: add acronyms in dictionary for

dpdklab at iol.unh.edu dpdklab at iol.unh.edu
Wed Mar 20 14:38:22 CET 2024


Test-Label: iol-abi-testing
Test-Status: SUCCESS
http://dpdk.org/patch/138490

_Testing PASS_

Submitter: Ferruh Yigit <ferruh.yigit at amd.com>
Date: Wednesday, March 20 2024 12:40:47 
DPDK git baseline: Repo:dpdk
  Branch: master
  CommitID:80ecef6d1f71fcebc0a51d7cabc51f73ee142ff2

138490 --> testing pass

Test environment and result as below:

+-----------------+----------+
|   Environment   | abi_test |
+=================+==========+
| Debian 11 (arm) | PASS     |
+-----------------+----------+
| CentOS Stream 9 | PASS     |
+-----------------+----------+
| Fedora 38       | PASS     |
+-----------------+----------+
| Fedora 37       | PASS     |
+-----------------+----------+
| Ubuntu 22.04    | PASS     |
+-----------------+----------+
| CentOS Stream 8 | PASS     |
+-----------------+----------+
| RHEL8           | PASS     |
+-----------------+----------+


Debian 11 (arm)
	Kernel: Container Host Kernel
	Compiler: gcc 10.2.1

CentOS Stream 9
	Kernel: 5.4.0-167-generic
	Compiler: gcc 11.4.1 20230605

Fedora 38
	Kernel: Depends on container host
	Compiler: gcc 13.2.1

Fedora 37
	Kernel: Depends on container host system
	Compiler: gcc 12.3.1

Ubuntu 22.04
	Kernel: 5.4.0-167-generic
	Compiler: gcc 11.4.0

CentOS Stream 8
	Kernel: 5.4.0-167-generic
	Compiler: gcc 8.5.0 20210514

RHEL8
	Kernel: 5.4.0-167-generic
	Compiler: gcc 8.5.0 20210514 (Red Hat 8.5.0-20)

To view detailed results, visit:
https://lab.dpdk.org/results/dashboard/patchsets/29601/

UNH-IOL DPDK Community Lab

To manage your email subscriptions, visit: 
https://lab.dpdk.org/results/dashboard/preferences/subscriptions/


More information about the test-report mailing list