|SUCCESS| pw138576 [PATCH] eal: mark rte_exit as cold
dpdklab at iol.unh.edu
dpdklab at iol.unh.edu
Wed Mar 20 20:19:51 CET 2024
Test-Label: iol-compile-amd64-testing
Test-Status: SUCCESS
http://dpdk.org/patch/138576
_Testing PASS_
Submitter: Stephen Hemminger <stephen at networkplumber.org>
Date: Wednesday, March 20 2024 17:05:22
DPDK git baseline: Repo:dpdk
Branch: master
CommitID:80ecef6d1f71fcebc0a51d7cabc51f73ee142ff2
138576 --> testing pass
Test environment and result as below:
+---------------------+-------------------+----------------------+--------------------+
| Environment | dpdk_msvc_compile | dpdk_mingw64_compile | dpdk_meson_compile |
+=====================+===================+======================+====================+
| Windows Server 2022 | PASS | PASS | PASS |
+---------------------+-------------------+----------------------+--------------------+
| Windows Server 2019 | SKIPPED | PASS | PASS |
+---------------------+-------------------+----------------------+--------------------+
| FreeBSD 13.2 | SKIPPED | SKIPPED | PASS |
+---------------------+-------------------+----------------------+--------------------+
| CentOS Stream 8 | SKIPPED | SKIPPED | PASS |
+---------------------+-------------------+----------------------+--------------------+
Windows Server 2022
Kernel: 10.0.20348.2031
Compiler: clang 15.0.7, gcc 8.1.0 (MinGW), and MSVC VS 17.9
Windows Server 2019
Kernel: 10.0.17763
Compiler: clang 14.0 and gcc 8.1.0 (MinGW)
FreeBSD 13.2
Kernel: 13.2
Compiler: clang 14.0.5
CentOS Stream 8
Kernel: 5.4.0-167-generic
Compiler: gcc 8.5.0 20210514
To view detailed results, visit:
https://lab.dpdk.org/results/dashboard/patchsets/29605/
UNH-IOL DPDK Community Lab
To manage your email subscriptions, visit:
https://lab.dpdk.org/results/dashboard/preferences/subscriptions/
More information about the test-report
mailing list