|SUCCESS| pw138583-138625 [PATCH] [46/46] app/test-bbdev: use rte st
dpdklab at iol.unh.edu
dpdklab at iol.unh.edu
Wed Mar 20 23:57:25 CET 2024
Test-Label: iol-compile-arm64-testing
Test-Status: SUCCESS
http://dpdk.org/patch/138625
_Testing PASS_
Submitter: Tyler Retzlaff <roretzla at linux.microsoft.com>
Date: Wednesday, March 20 2024 20:51:32
DPDK git baseline: Repo:dpdk
Branch: master
CommitID:80ecef6d1f71fcebc0a51d7cabc51f73ee142ff2
138583-138625 --> testing pass
Test environment and result as below:
+-----------------------+--------------------+
| Environment | dpdk_meson_compile |
+=======================+====================+
| Ubuntu 20.04 ARM SVE | PASS |
+-----------------------+--------------------+
| Debian 12 with MUSDK | PASS |
+-----------------------+--------------------+
| Fedora 37 (ARM) | PASS |
+-----------------------+--------------------+
| CentOS Stream 9 (ARM) | PASS |
+-----------------------+--------------------+
| Fedora 38 (ARM) | PASS |
+-----------------------+--------------------+
| Debian 12 (arm) | PASS |
+-----------------------+--------------------+
Ubuntu 20.04 ARM SVE
Kernel: 5.4.0-167-generic
Compiler: gcc (Ubuntu 10.5.0-1ubuntu1~20.04) 10.5.0
Debian 12 with MUSDK
Kernel: Container Host Kernel
Compiler: gcc 12.2.0
Fedora 37 (ARM)
Kernel: Depends on container host
Compiler: gcc 12.3.1
CentOS Stream 9 (ARM)
Kernel: Container Host Kernel
Compiler: gcc 11.4.1
Fedora 38 (ARM)
Kernel: Depends on container host
Compiler: gcc 13.2.1
Debian 12 (arm)
Kernel: Container Host Kernel
Compiler: gcc 12.2.0
To view detailed results, visit:
https://lab.dpdk.org/results/dashboard/patchsets/29609/
UNH-IOL DPDK Community Lab
To manage your email subscriptions, visit:
https://lab.dpdk.org/results/dashboard/preferences/subscriptions/
More information about the test-report
mailing list