|SUCCESS| [GIT MASTER] 244dbbf778711898b21d07ddc78d9904e68a15d2
dpdklab at iol.unh.edu
dpdklab at iol.unh.edu
Thu Mar 21 11:39:42 CET 2024
_Testing PASS_
Branch: tags/v22.11
244dbbf778711898b21d07ddc78d9904e68a15d2 --> testing pass
Test environment and result as below:
+----------------------+--------------+---------------------------+------------------------------+
| Environment | lpm_autotest | cryptodev_sw_zuc_autotest | cryptodev_sw_snow3g_autotest |
+======================+==============+===========================+==============================+
| Ubuntu 20.04 ARM SVE | PASS | SKIPPED | SKIPPED |
+----------------------+--------------+---------------------------+------------------------------+
| Debian 12 (arm) | SKIPPED | PASS | PASS |
+----------------------+--------------+---------------------------+------------------------------+
Ubuntu 20.04 ARM SVE
Kernel: 5.4.0-167-generic
Compiler: gcc (Ubuntu 10.5.0-1ubuntu1~20.04) 10.5.0
Debian 12 (arm)
Kernel: Container Host Kernel
Compiler: gcc 12.2.0
To view detailed results, visit:
https://lab.dpdk.org/results/dashboard/tarballs/28574/
UNH-IOL DPDK Community Lab
To manage your email subscriptions, visit:
https://lab.dpdk.org/results/dashboard/preferences/subscriptions/
More information about the test-report
mailing list