|SUCCESS| pw138655 [PATCH] [v3] app/test: fix rsa tests in qat suite
dpdklab at iol.unh.edu
dpdklab at iol.unh.edu
Thu Mar 21 13:49:22 CET 2024
Test-Label: iol-unit-arm64-testing
Test-Status: SUCCESS
http://dpdk.org/patch/138655
_Testing PASS_
Submitter: Arkadiusz Kusztal <arkadiuszx.kusztal at intel.com>
Date: Thursday, March 21 2024 08:35:02
DPDK git baseline: Repo:dpdk
Branch: master
CommitID:7f82e9c89f3514715533feb34f46ff1ea95c6f98
138655 --> testing pass
Test environment and result as below:
+--------------------------+----------------+------------------------------+---------------------------+--------------+
| Environment | dpdk_unit_test | cryptodev_sw_snow3g_autotest | cryptodev_sw_zuc_autotest | lpm_autotest |
+==========================+================+==============================+===========================+==============+
| CentOS Stream 9 (ARM) | PASS | SKIPPED | SKIPPED | SKIPPED |
+--------------------------+----------------+------------------------------+---------------------------+--------------+
| Debian 11 (Buster) (ARM) | PASS | SKIPPED | SKIPPED | SKIPPED |
+--------------------------+----------------+------------------------------+---------------------------+--------------+
| Debian 12 (arm) | PASS | PASS | PASS | SKIPPED |
+--------------------------+----------------+------------------------------+---------------------------+--------------+
| Fedora 37 (ARM) | PASS | SKIPPED | SKIPPED | SKIPPED |
+--------------------------+----------------+------------------------------+---------------------------+--------------+
| Fedora 38 (ARM) | PASS | SKIPPED | SKIPPED | SKIPPED |
+--------------------------+----------------+------------------------------+---------------------------+--------------+
| Ubuntu 20.04 (ARM) | PASS | SKIPPED | SKIPPED | SKIPPED |
+--------------------------+----------------+------------------------------+---------------------------+--------------+
| Ubuntu 20.04 ARM SVE | SKIPPED | SKIPPED | SKIPPED | PASS |
+--------------------------+----------------+------------------------------+---------------------------+--------------+
CentOS Stream 9 (ARM)
Kernel: Container Host Kernel
Compiler: gcc 11.4.1
Debian 11 (Buster) (ARM)
Kernel: Container Host Kernel
Compiler: gcc 10.2.1
Debian 12 (arm)
Kernel: Container Host Kernel
Compiler: gcc 12.2.0
Fedora 37 (ARM)
Kernel: Depends on container host
Compiler: gcc 12.3.1
Fedora 38 (ARM)
Kernel: Depends on container host
Compiler: gcc 13.2.1
Ubuntu 20.04 (ARM)
Kernel: Container Host Kernel
Compiler: gcc 9.4.0
Ubuntu 20.04 ARM SVE
Kernel: 5.4.0-167-generic
Compiler: gcc (Ubuntu 10.5.0-1ubuntu1~20.04) 10.5.0
To view detailed results, visit:
https://lab.dpdk.org/results/dashboard/patchsets/29619/
UNH-IOL DPDK Community Lab
To manage your email subscriptions, visit:
https://lab.dpdk.org/results/dashboard/preferences/subscriptions/
More information about the test-report
mailing list