|SUCCESS| pw138673-138685 [PATCH] [v6,14/14] examples/ipsec-secgw: f

dpdklab at iol.unh.edu dpdklab at iol.unh.edu
Thu Mar 21 20:32:28 CET 2024


Test-Label: iol-abi-testing
Test-Status: SUCCESS
http://dpdk.org/patch/138685

_Testing PASS_

Submitter: Sivaprasad Tummala <Sivaprasad.Tummala at amd.com>
Date: Thursday, March 21 2024 18:47:20 
DPDK git baseline: Repo:dpdk
  Branch: master
  CommitID:c96e9ca312d9b32637bbdcfbfc1bca93a8629faa

138673-138685 --> testing pass

Test environment and result as below:

+-----------------+----------+
|   Environment   | abi_test |
+=================+==========+
| Debian Bullseye | PASS     |
+-----------------+----------+
| Debian 11 (arm) | PASS     |
+-----------------+----------+
| CentOS Stream 8 | PASS     |
+-----------------+----------+


Debian Bullseye
	Kernel: 5.4.0-167-generic
	Compiler: gcc 10.2.1-6

Debian 11 (arm)
	Kernel: Container Host Kernel
	Compiler: gcc 10.2.1

CentOS Stream 8
	Kernel: 5.4.0-167-generic
	Compiler: gcc 8.5.0 20210514

To view detailed results, visit:
https://lab.dpdk.org/results/dashboard/patchsets/29627/

UNH-IOL DPDK Community Lab

To manage your email subscriptions, visit: 
https://lab.dpdk.org/results/dashboard/preferences/subscriptions/


More information about the test-report mailing list