|SUCCESS| pw138739 [PATCH] [v2] graph: fix head move when graph walk
dpdklab at iol.unh.edu
dpdklab at iol.unh.edu
Fri Mar 22 18:37:41 CET 2024
Test-Label: iol-compile-amd64-testing
Test-Status: SUCCESS
http://dpdk.org/patch/138739
_Testing PASS_
Submitter: Jingjing Wu <jingjing.wu at intel.com>
Date: Friday, March 22 2024 15:46:37
DPDK git baseline: Repo:dpdk
Branch: master
CommitID:0219d467bcb1d19b386b5bae8eecd3514ba13fdb
138739 --> testing pass
Test environment and result as below:
+---------------------+--------------------+----------------------+-------------------+
| Environment | dpdk_meson_compile | dpdk_mingw64_compile | dpdk_msvc_compile |
+=====================+====================+======================+===================+
| FreeBSD 13.2 | PASS | SKIPPED | SKIPPED |
+---------------------+--------------------+----------------------+-------------------+
| Windows Server 2019 | PASS | PASS | SKIPPED |
+---------------------+--------------------+----------------------+-------------------+
| Windows Server 2022 | PASS | PASS | PASS |
+---------------------+--------------------+----------------------+-------------------+
| Debian 11 (arm) | PASS | SKIPPED | SKIPPED |
+---------------------+--------------------+----------------------+-------------------+
FreeBSD 13.2
Kernel: 13.2
Compiler: clang 14.0.5
Windows Server 2019
Kernel: 10.0.17763
Compiler: clang 14.0 and gcc 8.1.0 (MinGW)
Windows Server 2022
Kernel: 10.0.20348.2031
Compiler: clang 15.0.7, gcc 8.1.0 (MinGW), and MSVC VS 17.9
Debian 11 (arm)
Kernel: Container Host Kernel
Compiler: gcc 10.2.1
To view detailed results, visit:
https://lab.dpdk.org/results/dashboard/patchsets/29631/
UNH-IOL DPDK Community Lab
To manage your email subscriptions, visit:
https://lab.dpdk.org/results/dashboard/preferences/subscriptions/
More information about the test-report
mailing list