|SUCCESS| pw138739 [PATCH] [v2] graph: fix head move when graph walk
dpdklab at iol.unh.edu
dpdklab at iol.unh.edu
Fri Mar 22 18:41:31 CET 2024
Test-Label: iol-unit-arm64-testing
Test-Status: SUCCESS
http://dpdk.org/patch/138739
_Testing PASS_
Submitter: Jingjing Wu <jingjing.wu at intel.com>
Date: Friday, March 22 2024 15:46:37
DPDK git baseline: Repo:dpdk
Branch: master
CommitID:0219d467bcb1d19b386b5bae8eecd3514ba13fdb
138739 --> testing pass
Test environment and result as below:
+--------------------------+------------------------------+---------------------------+----------------+
| Environment | cryptodev_sw_snow3g_autotest | cryptodev_sw_zuc_autotest | dpdk_unit_test |
+==========================+==============================+===========================+================+
| Debian 12 (arm) | PASS | PASS | PASS |
+--------------------------+------------------------------+---------------------------+----------------+
| Debian 11 (Buster) (ARM) | SKIPPED | SKIPPED | PASS |
+--------------------------+------------------------------+---------------------------+----------------+
| CentOS Stream 9 (ARM) | SKIPPED | SKIPPED | PASS |
+--------------------------+------------------------------+---------------------------+----------------+
| Fedora 38 (ARM) | SKIPPED | SKIPPED | PASS |
+--------------------------+------------------------------+---------------------------+----------------+
Debian 12 (arm)
Kernel: Container Host Kernel
Compiler: gcc 12.2.0
Debian 11 (Buster) (ARM)
Kernel: Container Host Kernel
Compiler: gcc 10.2.1
CentOS Stream 9 (ARM)
Kernel: Container Host Kernel
Compiler: gcc 11.4.1
Fedora 38 (ARM)
Kernel: Depends on container host
Compiler: gcc 13.2.1
To view detailed results, visit:
https://lab.dpdk.org/results/dashboard/patchsets/29631/
UNH-IOL DPDK Community Lab
To manage your email subscriptions, visit:
https://lab.dpdk.org/results/dashboard/preferences/subscriptions/
More information about the test-report
mailing list