|SUCCESS| pw138740 [PATCH] net/mlx5/hws: fix invalid memory access i

dpdklab at iol.unh.edu dpdklab at iol.unh.edu
Fri Mar 22 20:40:36 CET 2024


Test-Label: iol-unit-arm64-testing
Test-Status: SUCCESS
http://dpdk.org/patch/138740

_Testing PASS_

Submitter: Gregory Etelson <getelson at nvidia.com>
Date: Friday, March 22 2024 10:01:59 
DPDK git baseline: Repo:dpdk
  Branch: master
  CommitID:80ecef6d1f71fcebc0a51d7cabc51f73ee142ff2

138740 --> testing pass

Test environment and result as below:

+-----------------------+----------------+------------------------------+---------------------------+
|      Environment      | dpdk_unit_test | cryptodev_sw_snow3g_autotest | cryptodev_sw_zuc_autotest |
+=======================+================+==============================+===========================+
| CentOS Stream 9 (ARM) | PASS           | SKIPPED                      | SKIPPED                   |
+-----------------------+----------------+------------------------------+---------------------------+
| Debian 12 (arm)       | PASS           | PASS                         | PASS                      |
+-----------------------+----------------+------------------------------+---------------------------+
| Fedora 37 (ARM)       | PASS           | SKIPPED                      | SKIPPED                   |
+-----------------------+----------------+------------------------------+---------------------------+
| Ubuntu 20.04 (ARM)    | PASS           | SKIPPED                      | SKIPPED                   |
+-----------------------+----------------+------------------------------+---------------------------+
| Fedora 38 (ARM)       | PASS           | SKIPPED                      | SKIPPED                   |
+-----------------------+----------------+------------------------------+---------------------------+


CentOS Stream 9 (ARM)
	Kernel: Container Host Kernel
	Compiler: gcc 11.4.1

Debian 12 (arm)
	Kernel: Container Host Kernel
	Compiler: gcc 12.2.0

Fedora 37 (ARM)
	Kernel: Depends on container host
	Compiler: gcc 12.3.1

Ubuntu 20.04 (ARM)
	Kernel: Container Host Kernel
	Compiler: gcc 9.4.0

Fedora 38 (ARM)
	Kernel: Depends on container host
	Compiler: gcc 13.2.1

To view detailed results, visit:
https://lab.dpdk.org/results/dashboard/patchsets/29632/

UNH-IOL DPDK Community Lab

To manage your email subscriptions, visit: 
https://lab.dpdk.org/results/dashboard/preferences/subscriptions/


More information about the test-report mailing list