|SUCCESS| pw138744 [PATCH] Spelling: Fixed a spelling mistake.

dpdklab at iol.unh.edu dpdklab at iol.unh.edu
Fri Mar 22 22:31:03 CET 2024


Test-Label: iol-abi-testing
Test-Status: SUCCESS
http://dpdk.org/patch/138744

_Testing PASS_

Submitter: Flore <florestecien at gmail.com>
Date: Thursday, March 21 2024 23:03:52 
DPDK git baseline: Repo:dpdk
  Branch: master
  CommitID:0219d467bcb1d19b386b5bae8eecd3514ba13fdb

138744 --> testing pass

Test environment and result as below:

+-----------------+----------+
|   Environment   | abi_test |
+=================+==========+
| Fedora 38       | PASS     |
+-----------------+----------+
| Debian Bullseye | PASS     |
+-----------------+----------+
| CentOS Stream 8 | PASS     |
+-----------------+----------+


Fedora 38
	Kernel: Depends on container host
	Compiler: gcc 13.2.1

Debian Bullseye
	Kernel: 5.4.0-167-generic
	Compiler: gcc 10.2.1-6

CentOS Stream 8
	Kernel: 5.4.0-167-generic
	Compiler: gcc 8.5.0 20210514

To view detailed results, visit:
https://lab.dpdk.org/results/dashboard/patchsets/29636/

UNH-IOL DPDK Community Lab

To manage your email subscriptions, visit: 
https://lab.dpdk.org/results/dashboard/preferences/subscriptions/


More information about the test-report mailing list