|SUCCESS| pw138768 [PATCH] graph: avoid id collisions

dpdklab at iol.unh.edu dpdklab at iol.unh.edu
Mon Mar 25 17:38:13 CET 2024


Test-Label: iol-abi-testing
Test-Status: SUCCESS
http://dpdk.org/patch/138768

_Testing PASS_

Submitter: Robin Jarry <rjarry at redhat.com>
Date: Monday, March 25 2024 15:53:55 
DPDK git baseline: Repo:dpdk
  Branch: master
  CommitID:0b82b5139fefe6eb5ec1a0b489fd193e8a99ab73

138768 --> testing pass

Test environment and result as below:

+------------------+----------+
|   Environment    | abi_test |
+==================+==========+
| CentOS Stream 9  | PASS     |
+------------------+----------+
| openSUSE Leap 15 | PASS     |
+------------------+----------+
| RHEL8            | PASS     |
+------------------+----------+


CentOS Stream 9
	Kernel: 5.4.0-167-generic
	Compiler: gcc 11.4.1 20230605

openSUSE Leap 15
	Kernel: 5.4.0-167-generic
	Compiler: gcc 7.5.0

RHEL8
	Kernel: 5.4.0-167-generic
	Compiler: gcc 8.5.0 20210514 (Red Hat 8.5.0-20)

To view detailed results, visit:
https://lab.dpdk.org/results/dashboard/patchsets/29650/

UNH-IOL DPDK Community Lab

To manage your email subscriptions, visit: 
https://lab.dpdk.org/results/dashboard/preferences/subscriptions/


More information about the test-report mailing list