|SUCCESS| pw138768 [PATCH] graph: avoid id collisions

dpdklab at iol.unh.edu dpdklab at iol.unh.edu
Mon Mar 25 17:52:06 CET 2024


Test-Label: iol-unit-arm64-testing
Test-Status: SUCCESS
http://dpdk.org/patch/138768

_Testing PASS_

Submitter: Robin Jarry <rjarry at redhat.com>
Date: Monday, March 25 2024 15:53:55 
DPDK git baseline: Repo:dpdk
  Branch: master
  CommitID:0b82b5139fefe6eb5ec1a0b489fd193e8a99ab73

138768 --> testing pass

Test environment and result as below:

+-----------------------+----------------+
|      Environment      | dpdk_unit_test |
+=======================+================+
| Debian 12 (arm)       | PASS           |
+-----------------------+----------------+
| Fedora 38 (ARM)       | PASS           |
+-----------------------+----------------+
| CentOS Stream 9 (ARM) | PASS           |
+-----------------------+----------------+


Debian 12 (arm)
	Kernel: Container Host Kernel
	Compiler: gcc 12.2.0

Fedora 38 (ARM)
	Kernel: Depends on container host
	Compiler: gcc 13.2.1

CentOS Stream 9 (ARM)
	Kernel: Container Host Kernel
	Compiler: gcc 11.4.1

To view detailed results, visit:
https://lab.dpdk.org/results/dashboard/patchsets/29650/

UNH-IOL DPDK Community Lab

To manage your email subscriptions, visit: 
https://lab.dpdk.org/results/dashboard/preferences/subscriptions/


More information about the test-report mailing list