|SUCCESS| pw138796 [PATCH] doc: add tested AMD platforms
dpdklab at iol.unh.edu
dpdklab at iol.unh.edu
Tue Mar 26 11:28:19 CET 2024
Test-Label: iol-compile-arm64-testing
Test-Status: SUCCESS
http://dpdk.org/patch/138796
_Testing PASS_
Submitter: Ferruh Yigit <ferruh.yigit at amd.com>
Date: Tuesday, March 26 2024 09:46:54
DPDK git baseline: Repo:dpdk
Branch: master
CommitID:0b82b5139fefe6eb5ec1a0b489fd193e8a99ab73
138796 --> testing pass
Test environment and result as below:
+----------------------+--------------------+
| Environment | dpdk_meson_compile |
+======================+====================+
| Ubuntu 20.04 ARM SVE | PASS |
+----------------------+--------------------+
| Debian 12 with MUSDK | PASS |
+----------------------+--------------------+
| Fedora 38 (ARM) | PASS |
+----------------------+--------------------+
Ubuntu 20.04 ARM SVE
Kernel: 5.4.0-167-generic
Compiler: gcc (Ubuntu 10.5.0-1ubuntu1~20.04) 10.5.0
Debian 12 with MUSDK
Kernel: Container Host Kernel
Compiler: gcc 12.2.0
Fedora 38 (ARM)
Kernel: Depends on container host
Compiler: gcc 13.2.1
To view detailed results, visit:
https://lab.dpdk.org/results/dashboard/patchsets/29655/
UNH-IOL DPDK Community Lab
To manage your email subscriptions, visit:
https://lab.dpdk.org/results/dashboard/preferences/subscriptions/
More information about the test-report
mailing list