|SUCCESS| pw138827-138832 [PATCH] [6/6] dts: add statefulness to Tes
dpdklab at iol.unh.edu
dpdklab at iol.unh.edu
Tue Mar 26 20:53:39 CET 2024
Test-Label: iol-compile-amd64-testing
Test-Status: SUCCESS
http://dpdk.org/patch/138832
_Testing PASS_
Submitter: Luca Vizzarro <luca.vizzarro at arm.com>
Date: Tuesday, March 26 2024 19:04:22
DPDK git baseline: Repo:dpdk
Branch: master
CommitID:ded4d4765171b88470e59307f10625e942f22fca
138827-138832 --> testing pass
Test environment and result as below:
+---------------------+--------------------+----------------------+-------------------+
| Environment | dpdk_meson_compile | dpdk_mingw64_compile | dpdk_msvc_compile |
+=====================+====================+======================+===================+
| FreeBSD 13.2 | PASS | SKIPPED | SKIPPED |
+---------------------+--------------------+----------------------+-------------------+
| Windows Server 2019 | PASS | PASS | SKIPPED |
+---------------------+--------------------+----------------------+-------------------+
| Windows Server 2022 | PASS | PASS | PASS |
+---------------------+--------------------+----------------------+-------------------+
| CentOS Stream 8 | PASS | SKIPPED | SKIPPED |
+---------------------+--------------------+----------------------+-------------------+
| Debian Bullseye | PASS | SKIPPED | SKIPPED |
+---------------------+--------------------+----------------------+-------------------+
| Debian 11 (arm) | PASS | SKIPPED | SKIPPED |
+---------------------+--------------------+----------------------+-------------------+
| Fedora 38 | PASS | SKIPPED | SKIPPED |
+---------------------+--------------------+----------------------+-------------------+
FreeBSD 13.2
Kernel: 13.2
Compiler: clang 14.0.5
Windows Server 2019
Kernel: 10.0.17763
Compiler: clang 14.0 and gcc 8.1.0 (MinGW)
Windows Server 2022
Kernel: 10.0.20348.2031
Compiler: clang 15.0.7, gcc 8.1.0 (MinGW), and MSVC VS 17.9
CentOS Stream 8
Kernel: 5.4.0-167-generic
Compiler: gcc 8.5.0 20210514
Debian Bullseye
Kernel: 5.4.0-167-generic
Compiler: gcc 10.2.1-6
Debian 11 (arm)
Kernel: Container Host Kernel
Compiler: gcc 10.2.1
Fedora 38
Kernel: Depends on container host
Compiler: gcc 13.2.1
To view detailed results, visit:
https://lab.dpdk.org/results/dashboard/patchsets/29659/
UNH-IOL DPDK Community Lab
To manage your email subscriptions, visit:
https://lab.dpdk.org/results/dashboard/preferences/subscriptions/
More information about the test-report
mailing list