|SUCCESS| pw138849 [PATCH] [v1] net/ice: updated 24.03 recommended m

dpdklab at iol.unh.edu dpdklab at iol.unh.edu
Wed Mar 27 08:33:18 CET 2024


Test-Label: iol-unit-arm64-testing
Test-Status: SUCCESS
http://dpdk.org/patch/138849

_Testing PASS_

Submitter: hailinx <hailinx.xu at intel.com>
Date: Wednesday, March 27 2024 05:07:29 
DPDK git baseline: Repo:dpdk
  Branch: master
  CommitID:2c54ea7a59dfc0a819d3527309c62846fc8853af

138849 --> testing pass

Test environment and result as below:

+-----------------------------+------------------------------+---------------------------+----------------+
|         Environment         | cryptodev_sw_snow3g_autotest | cryptodev_sw_zuc_autotest | dpdk_unit_test |
+=============================+==============================+===========================+================+
| Debian 12 (arm)             | PASS                         | PASS                      | PASS           |
+-----------------------------+------------------------------+---------------------------+----------------+
| CentOS Stream 9 (ARM)       | SKIPPED                      | SKIPPED                   | PASS           |
+-----------------------------+------------------------------+---------------------------+----------------+
| Debian 11 (Buster) (ARM)    | SKIPPED                      | SKIPPED                   | PASS           |
+-----------------------------+------------------------------+---------------------------+----------------+
| 32-bit Ubuntu 20.04.4 (ARM) | SKIPPED                      | SKIPPED                   | PASS           |
+-----------------------------+------------------------------+---------------------------+----------------+
| Fedora 37 (ARM)             | SKIPPED                      | SKIPPED                   | PASS           |
+-----------------------------+------------------------------+---------------------------+----------------+
| Fedora 39 (ARM)             | SKIPPED                      | SKIPPED                   | PASS           |
+-----------------------------+------------------------------+---------------------------+----------------+
| Fedora 38 (ARM)             | SKIPPED                      | SKIPPED                   | PASS           |
+-----------------------------+------------------------------+---------------------------+----------------+
| Fedora 39 (ARM Clang)       | SKIPPED                      | SKIPPED                   | PASS           |
+-----------------------------+------------------------------+---------------------------+----------------+
| Ubuntu 20.04 (ARM)          | SKIPPED                      | SKIPPED                   | PASS           |
+-----------------------------+------------------------------+---------------------------+----------------+


Debian 12 (arm)
	Kernel: Container Host Kernel
	Compiler: gcc 12.2.0

CentOS Stream 9 (ARM)
	Kernel: Container Host Kernel
	Compiler: gcc 11.4.1

Debian 11 (Buster) (ARM)
	Kernel: Container Host Kernel
	Compiler: gcc 10.2.1

32-bit Ubuntu 20.04.4 (ARM)
	Kernel: 5.4.0-155-generic aarch64
	Compiler: gcc 9.4

Fedora 37 (ARM)
	Kernel: Depends on container host
	Compiler: gcc 12.3.1

Fedora 39 (ARM)
	Kernel: Depends on container host
	Compiler: gcc 13.2.1

Fedora 38 (ARM)
	Kernel: Depends on container host
	Compiler: gcc 13.2.1

Fedora 39 (ARM Clang)
	Kernel: Depends on container host
	Compiler: clang 17.0.6

Ubuntu 20.04 (ARM)
	Kernel: Container Host Kernel
	Compiler: gcc 9.4.0

To view detailed results, visit:
https://lab.dpdk.org/results/dashboard/patchsets/29662/

UNH-IOL DPDK Community Lab

To manage your email subscriptions, visit: 
https://lab.dpdk.org/results/dashboard/preferences/subscriptions/


More information about the test-report mailing list