|SUCCESS| pw138850 [PATCH] [v5] graph: expose node context as pointe
dpdklab at iol.unh.edu
dpdklab at iol.unh.edu
Wed Mar 27 11:01:03 CET 2024
Test-Label: iol-unit-arm64-testing
Test-Status: SUCCESS
http://dpdk.org/patch/138850
_Testing PASS_
Submitter: Robin Jarry <rjarry at redhat.com>
Date: Wednesday, March 27 2024 09:14:41
DPDK git baseline: Repo:dpdk
Branch: master
CommitID:ded4d4765171b88470e59307f10625e942f22fca
138850 --> testing pass
Test environment and result as below:
+--------------------------+------------------------------+---------------------------+----------------+
| Environment | cryptodev_sw_snow3g_autotest | cryptodev_sw_zuc_autotest | dpdk_unit_test |
+==========================+==============================+===========================+================+
| Debian 12 (arm) | PASS | PASS | PASS |
+--------------------------+------------------------------+---------------------------+----------------+
| CentOS Stream 9 (ARM) | SKIPPED | SKIPPED | PASS |
+--------------------------+------------------------------+---------------------------+----------------+
| Debian 11 (Buster) (ARM) | SKIPPED | SKIPPED | PASS |
+--------------------------+------------------------------+---------------------------+----------------+
Debian 12 (arm)
Kernel: Container Host Kernel
Compiler: gcc 12.2.0
CentOS Stream 9 (ARM)
Kernel: Container Host Kernel
Compiler: gcc 11.4.1
Debian 11 (Buster) (ARM)
Kernel: Container Host Kernel
Compiler: gcc 10.2.1
To view detailed results, visit:
https://lab.dpdk.org/results/dashboard/patchsets/29663/
UNH-IOL DPDK Community Lab
To manage your email subscriptions, visit:
https://lab.dpdk.org/results/dashboard/preferences/subscriptions/
More information about the test-report
mailing list