|SUCCESS| [GIT MASTER] c29202f2f70abd22e3d74e0671ec9f6cb9e387ee
dpdklab at iol.unh.edu
dpdklab at iol.unh.edu
Thu Mar 28 01:34:01 CET 2024
_Testing PASS_
Branch: dpdk
c29202f2f70abd22e3d74e0671ec9f6cb9e387ee --> testing pass
Test environment and result as below:
+-----------------------+---------------------------+------------------------------+----------------+
| Environment | cryptodev_sw_zuc_autotest | cryptodev_sw_snow3g_autotest | dpdk_unit_test |
+=======================+===========================+==============================+================+
| Debian 12 (arm) | PASS | PASS | PASS |
+-----------------------+---------------------------+------------------------------+----------------+
| CentOS Stream 9 (ARM) | SKIPPED | SKIPPED | PASS |
+-----------------------+---------------------------+------------------------------+----------------+
Debian 12 (arm)
Kernel: Container Host Kernel
Compiler: gcc 12.2.0
CentOS Stream 9 (ARM)
Kernel: Container Host Kernel
Compiler: gcc 11.4.1
To view detailed results, visit:
https://lab.dpdk.org/results/dashboard/tarballs/28653/
UNH-IOL DPDK Community Lab
To manage your email subscriptions, visit:
https://lab.dpdk.org/results/dashboard/preferences/subscriptions/
More information about the test-report
mailing list