|SUCCESS| pw138952 [PATCH] [v1] doc: update release notes for 24.03
dpdklab at iol.unh.edu
dpdklab at iol.unh.edu
Thu Mar 28 13:58:35 CET 2024
Test-Label: iol-abi-testing
Test-Status: SUCCESS
http://dpdk.org/patch/138952
_Testing PASS_
Submitter: John McNamara <john.mcnamara at intel.com>
Date: Thursday, March 28 2024 12:05:50
DPDK git baseline: Repo:dpdk
Branch: master
CommitID:c29202f2f70abd22e3d74e0671ec9f6cb9e387ee
138952 --> testing pass
Test environment and result as below:
+-----------------+----------+
| Environment | abi_test |
+=================+==========+
| Fedora 37 | PASS |
+-----------------+----------+
| CentOS Stream 8 | PASS |
+-----------------+----------+
| Debian Bullseye | PASS |
+-----------------+----------+
| Fedora 39 | PASS |
+-----------------+----------+
| CentOS Stream 9 | PASS |
+-----------------+----------+
Fedora 37
Kernel: Depends on container host system
Compiler: gcc 12.3.1
CentOS Stream 8
Kernel: 5.4.0-167-generic
Compiler: gcc 8.5.0 20210514
Debian Bullseye
Kernel: 5.4.0-167-generic
Compiler: gcc 10.2.1-6
Fedora 39
Kernel: Depends on container host
Compiler: clang 17.0.6
CentOS Stream 9
Kernel: 5.4.0-167-generic
Compiler: gcc 11.4.1 20230605
To view detailed results, visit:
https://lab.dpdk.org/results/dashboard/patchsets/29673/
UNH-IOL DPDK Community Lab
To manage your email subscriptions, visit:
https://lab.dpdk.org/results/dashboard/preferences/subscriptions/
More information about the test-report
mailing list