|SUCCESS| pw138937-138951 [PATCH] [v17,15/15] log: colorize log outp
dpdklab at iol.unh.edu
dpdklab at iol.unh.edu
Thu Mar 28 14:45:17 CET 2024
Test-Label: iol-unit-arm64-testing
Test-Status: SUCCESS
http://dpdk.org/patch/138951
_Testing PASS_
Submitter: Stephen Hemminger <stephen at networkplumber.org>
Date: Wednesday, March 27 2024 23:28:38
DPDK git baseline: Repo:dpdk
Branch: master
CommitID:c29202f2f70abd22e3d74e0671ec9f6cb9e387ee
138937-138951 --> testing pass
Test environment and result as below:
+-----------------------------+----------------+
| Environment | dpdk_unit_test |
+=============================+================+
| Debian 11 (Buster) (ARM) | PASS |
+-----------------------------+----------------+
| Debian 12 (arm) | PASS |
+-----------------------------+----------------+
| CentOS Stream 9 (ARM) | PASS |
+-----------------------------+----------------+
| Fedora 37 (ARM) | PASS |
+-----------------------------+----------------+
| Fedora 38 (ARM) | PASS |
+-----------------------------+----------------+
| Fedora 39 (ARM) | PASS |
+-----------------------------+----------------+
| 32-bit Ubuntu 20.04.4 (ARM) | PASS |
+-----------------------------+----------------+
Debian 11 (Buster) (ARM)
Kernel: Container Host Kernel
Compiler: gcc 10.2.1
Debian 12 (arm)
Kernel: Container Host Kernel
Compiler: gcc 12.2.0
CentOS Stream 9 (ARM)
Kernel: Container Host Kernel
Compiler: gcc 11.4.1
Fedora 37 (ARM)
Kernel: Depends on container host
Compiler: gcc 12.3.1
Fedora 38 (ARM)
Kernel: Depends on container host
Compiler: gcc 13.2.1
Fedora 39 (ARM)
Kernel: Depends on container host
Compiler: gcc 13.2.1
32-bit Ubuntu 20.04.4 (ARM)
Kernel: 5.4.0-155-generic aarch64
Compiler: gcc 9.4
To view detailed results, visit:
https://lab.dpdk.org/results/dashboard/patchsets/29672/
UNH-IOL DPDK Community Lab
To manage your email subscriptions, visit:
https://lab.dpdk.org/results/dashboard/preferences/subscriptions/
More information about the test-report
mailing list