|SUCCESS| pw138922-138936 [PATCH] [v2,15/15] examples: pack structur

dpdklab at iol.unh.edu dpdklab at iol.unh.edu
Thu Mar 28 15:49:15 CET 2024


Test-Label: iol-unit-arm64-testing
Test-Status: SUCCESS
http://dpdk.org/patch/138936

_Testing PASS_

Submitter: Tyler Retzlaff <roretzla at linux.microsoft.com>
Date: Wednesday, March 27 2024 23:09:18 
DPDK git baseline: Repo:dpdk
  Branch: master
  CommitID:c29202f2f70abd22e3d74e0671ec9f6cb9e387ee

138922-138936 --> testing pass

Test environment and result as below:

+-----------------------------+----------------+------------------------------+
|         Environment         | dpdk_unit_test | cryptodev_sw_snow3g_autotest |
+=============================+================+==============================+
| 32-bit Ubuntu 20.04.4 (ARM) | PASS           | SKIPPED                      |
+-----------------------------+----------------+------------------------------+
| Debian 11 (Buster) (ARM)    | PASS           | SKIPPED                      |
+-----------------------------+----------------+------------------------------+
| Debian 12 (arm)             | PASS           | PASS                         |
+-----------------------------+----------------+------------------------------+


32-bit Ubuntu 20.04.4 (ARM)
	Kernel: 5.4.0-155-generic aarch64
	Compiler: gcc 9.4

Debian 11 (Buster) (ARM)
	Kernel: Container Host Kernel
	Compiler: gcc 10.2.1

Debian 12 (arm)
	Kernel: Container Host Kernel
	Compiler: gcc 12.2.0

To view detailed results, visit:
https://lab.dpdk.org/results/dashboard/patchsets/29671/

UNH-IOL DPDK Community Lab

To manage your email subscriptions, visit: 
https://lab.dpdk.org/results/dashboard/preferences/subscriptions/


More information about the test-report mailing list