|SUCCESS| pw138960 [PATCH] maintainers: update for testpmd

dpdklab at iol.unh.edu dpdklab at iol.unh.edu
Thu Mar 28 18:06:49 CET 2024


Test-Label: iol-unit-arm64-testing
Test-Status: SUCCESS
http://dpdk.org/patch/138960

_Testing PASS_

Submitter: Zhang, Yuying <yuying.zhang at intel.com>
Date: Thursday, March 28 2024 16:10:21 
DPDK git baseline: Repo:dpdk
  Branch: master
  CommitID:a9778aad62470a38ccbb4e09a2a6bf0cc2e0e36d

138960 --> testing pass

Test environment and result as below:

+--------------------------+------------------------------+---------------------------+----------------+
|       Environment        | cryptodev_sw_snow3g_autotest | cryptodev_sw_zuc_autotest | dpdk_unit_test |
+==========================+==============================+===========================+================+
| Debian 12 (arm)          | PASS                         | PASS                      | PASS           |
+--------------------------+------------------------------+---------------------------+----------------+
| Fedora 37 (ARM)          | SKIPPED                      | SKIPPED                   | PASS           |
+--------------------------+------------------------------+---------------------------+----------------+
| Debian 11 (Buster) (ARM) | SKIPPED                      | SKIPPED                   | PASS           |
+--------------------------+------------------------------+---------------------------+----------------+


Debian 12 (arm)
	Kernel: Container Host Kernel
	Compiler: gcc 12.2.0

Fedora 37 (ARM)
	Kernel: Depends on container host
	Compiler: gcc 12.3.1

Debian 11 (Buster) (ARM)
	Kernel: Container Host Kernel
	Compiler: gcc 10.2.1

To view detailed results, visit:
https://lab.dpdk.org/results/dashboard/patchsets/29678/

UNH-IOL DPDK Community Lab

To manage your email subscriptions, visit: 
https://lab.dpdk.org/results/dashboard/preferences/subscriptions/


More information about the test-report mailing list