|SUCCESS| pw138965 [PATCH] vhost: optimize mbuf allocation in virtio
dpdklab at iol.unh.edu
dpdklab at iol.unh.edu
Fri Mar 29 01:19:45 CET 2024
Test-Label: iol-compile-amd64-testing
Test-Status: SUCCESS
http://dpdk.org/patch/138965
_Testing PASS_
Submitter: Andrey Ignatov <rdna at apple.com>
Date: Thursday, March 28 2024 23:33:38
DPDK git baseline: Repo:dpdk
Branch: master
CommitID:deedfb86a7a6e10064d3cccd593f62072de96e36
138965 --> testing pass
Test environment and result as below:
+---------------------+--------------------+----------------------+-------------------+
| Environment | dpdk_meson_compile | dpdk_mingw64_compile | dpdk_msvc_compile |
+=====================+====================+======================+===================+
| FreeBSD 13.2 | PASS | SKIPPED | SKIPPED |
+---------------------+--------------------+----------------------+-------------------+
| Windows Server 2022 | PASS | PASS | PASS |
+---------------------+--------------------+----------------------+-------------------+
| Windows Server 2019 | PASS | PASS | SKIPPED |
+---------------------+--------------------+----------------------+-------------------+
FreeBSD 13.2
Kernel: 13.2
Compiler: clang 14.0.5
Windows Server 2022
Kernel: 10.0.20348.2031
Compiler: clang 15.0.7, gcc 8.1.0 (MinGW), and MSVC VS 17.9
Windows Server 2019
Kernel: 10.0.17763
Compiler: clang 14.0 and gcc 8.1.0 (MinGW)
To view detailed results, visit:
https://lab.dpdk.org/results/dashboard/patchsets/29681/
UNH-IOL DPDK Community Lab
To manage your email subscriptions, visit:
https://lab.dpdk.org/results/dashboard/preferences/subscriptions/
More information about the test-report
mailing list