|SUCCESS| pw138965 [PATCH] vhost: optimize mbuf allocation in virtio

dpdklab at iol.unh.edu dpdklab at iol.unh.edu
Fri Mar 29 01:37:44 CET 2024


Test-Label: iol-unit-arm64-testing
Test-Status: SUCCESS
http://dpdk.org/patch/138965

_Testing PASS_

Submitter: Andrey Ignatov <rdna at apple.com>
Date: Thursday, March 28 2024 23:33:38 
DPDK git baseline: Repo:dpdk
  Branch: master
  CommitID:deedfb86a7a6e10064d3cccd593f62072de96e36

138965 --> testing pass

Test environment and result as below:

+-----------------------------+---------------------------+----------------+
|         Environment         | cryptodev_sw_zuc_autotest | dpdk_unit_test |
+=============================+===========================+================+
| Debian 12 (arm)             | PASS                      | SKIPPED        |
+-----------------------------+---------------------------+----------------+
| CentOS Stream 9 (ARM)       | SKIPPED                   | PASS           |
+-----------------------------+---------------------------+----------------+
| 32-bit Ubuntu 20.04.4 (ARM) | SKIPPED                   | PASS           |
+-----------------------------+---------------------------+----------------+


Debian 12 (arm)
	Kernel: Container Host Kernel
	Compiler: gcc 12.2.0

CentOS Stream 9 (ARM)
	Kernel: Container Host Kernel
	Compiler: gcc 11.4.1

32-bit Ubuntu 20.04.4 (ARM)
	Kernel: 5.4.0-155-generic aarch64
	Compiler: gcc 9.4

To view detailed results, visit:
https://lab.dpdk.org/results/dashboard/patchsets/29681/

UNH-IOL DPDK Community Lab

To manage your email subscriptions, visit: 
https://lab.dpdk.org/results/dashboard/preferences/subscriptions/


More information about the test-report mailing list