|SUCCESS| [GIT MASTER] a9778aad62470a38ccbb4e09a2a6bf0cc2e0e36d
dpdklab at iol.unh.edu
dpdklab at iol.unh.edu
Sat Mar 30 01:31:17 CET 2024
_Testing PASS_
Branch: dpdk
a9778aad62470a38ccbb4e09a2a6bf0cc2e0e36d --> testing pass
Test environment and result as below:
+---------------------+--------------------+----------------------+-------------------+
| Environment | dpdk_meson_compile | dpdk_mingw64_compile | dpdk_msvc_compile |
+=====================+====================+======================+===================+
| Debian 11 (arm) | PASS | SKIPPED | SKIPPED |
+---------------------+--------------------+----------------------+-------------------+
| FreeBSD 13.2 | PASS | SKIPPED | SKIPPED |
+---------------------+--------------------+----------------------+-------------------+
| CentOS Stream 8 | PASS | SKIPPED | SKIPPED |
+---------------------+--------------------+----------------------+-------------------+
| CentOS Stream 9 | PASS | SKIPPED | SKIPPED |
+---------------------+--------------------+----------------------+-------------------+
| Fedora 38 | PASS | SKIPPED | SKIPPED |
+---------------------+--------------------+----------------------+-------------------+
| Fedora 39 | PASS | SKIPPED | SKIPPED |
+---------------------+--------------------+----------------------+-------------------+
| openSUSE Leap 15 | PASS | SKIPPED | SKIPPED |
+---------------------+--------------------+----------------------+-------------------+
| Windows Server 2019 | PASS | PASS | SKIPPED |
+---------------------+--------------------+----------------------+-------------------+
| Windows Server 2022 | PASS | PASS | PASS |
+---------------------+--------------------+----------------------+-------------------+
| Ubuntu 22.04 | PASS | SKIPPED | SKIPPED |
+---------------------+--------------------+----------------------+-------------------+
| Ubuntu 20.04 | PASS | SKIPPED | SKIPPED |
+---------------------+--------------------+----------------------+-------------------+
Debian 11 (arm)
Kernel: Container Host Kernel
Compiler: gcc 10.2.1
FreeBSD 13.2
Kernel: 13.2
Compiler: clang 14.0.5
CentOS Stream 8
Kernel: 5.4.0-167-generic
Compiler: gcc 8.5.0 20210514
CentOS Stream 9
Kernel: 5.4.0-167-generic
Compiler: gcc 11.4.1 20230605
Fedora 38
Kernel: Depends on container host
Compiler: gcc 13.2.1
Fedora 39
Kernel: Depends on container host
Compiler: gcc 13.2.1
openSUSE Leap 15
Kernel: 5.4.0-167-generic
Compiler: gcc 7.5.0
Windows Server 2019
Kernel: 10.0.17763
Compiler: clang 14.0 and gcc 8.1.0 (MinGW)
Windows Server 2022
Kernel: 10.0.20348.2031
Compiler: clang 15.0.7, gcc 8.1.0 (MinGW), and MSVC VS 17.9
Ubuntu 22.04
Kernel: 5.4.0-167-generic
Compiler: gcc 11.4.0
Ubuntu 20.04
Kernel: 5.4.0-167-generic
Compiler: gcc 9.4.0-1ubuntu1~20.04.1
To view detailed results, visit:
https://lab.dpdk.org/results/dashboard/tarballs/28668/
UNH-IOL DPDK Community Lab
To manage your email subscriptions, visit:
https://lab.dpdk.org/results/dashboard/preferences/subscriptions/
More information about the test-report
mailing list