|SUCCESS| pw138981-138995 [PATCH] [v19,15/15] log: colorize log outp
dpdklab at iol.unh.edu
dpdklab at iol.unh.edu
Sat Mar 30 04:56:57 CET 2024
Test-Label: iol-abi-testing
Test-Status: SUCCESS
http://dpdk.org/patch/138995
_Testing PASS_
Submitter: Stephen Hemminger <stephen at networkplumber.org>
Date: Saturday, March 30 2024 03:00:58
DPDK git baseline: Repo:dpdk
Branch: master
CommitID:a9778aad62470a38ccbb4e09a2a6bf0cc2e0e36d
138981-138995 --> testing pass
Test environment and result as below:
+-----------------+----------+
| Environment | abi_test |
+=================+==========+
| Fedora 38 | PASS |
+-----------------+----------+
| Fedora 39 | PASS |
+-----------------+----------+
| CentOS Stream 8 | PASS |
+-----------------+----------+
Fedora 38
Kernel: Depends on container host
Compiler: clang 16.0.6
Fedora 39
Kernel: Depends on container host
Compiler: clang 17.0.6
CentOS Stream 8
Kernel: 5.4.0-167-generic
Compiler: gcc 8.5.0 20210514
To view detailed results, visit:
https://lab.dpdk.org/results/dashboard/patchsets/29683/
UNH-IOL DPDK Community Lab
To manage your email subscriptions, visit:
https://lab.dpdk.org/results/dashboard/preferences/subscriptions/
More information about the test-report
mailing list