|SUCCESS| [GIT MASTER] efe1d783f474ea1668a3e50aac73126b2fb192e0

dpdklab at iol.unh.edu dpdklab at iol.unh.edu
Sat Mar 30 06:38:59 CET 2024


_Testing PASS_

Branch: tags/v22.11

efe1d783f474ea1668a3e50aac73126b2fb192e0 --> testing pass

Test environment and result as below:

+-----------------+----------------+
|   Environment   | dpdk_unit_test |
+=================+================+
| Debian Bullseye | PASS           |
+-----------------+----------------+
| CentOS Stream 8 | PASS           |
+-----------------+----------------+
| Debian 11 (arm) | PASS           |
+-----------------+----------------+


Debian Bullseye
	Kernel: 5.4.0-167-generic
	Compiler: gcc 10.2.1-6

CentOS Stream 8
	Kernel: 5.4.0-167-generic
	Compiler: gcc 8.5.0 20210514

Debian 11 (arm)
	Kernel: Container Host Kernel
	Compiler: gcc 10.2.1

To view detailed results, visit:
https://lab.dpdk.org/results/dashboard/tarballs/28671/

UNH-IOL DPDK Community Lab

To manage your email subscriptions, visit: 
https://lab.dpdk.org/results/dashboard/preferences/subscriptions/


More information about the test-report mailing list