|SUCCESS| pw138996 [PATCH] app/testpmd: handle IEEE1588 init fail
dpdklab at iol.unh.edu
dpdklab at iol.unh.edu
Sat Mar 30 09:35:53 CET 2024
Test-Label: iol-abi-testing
Test-Status: SUCCESS
http://dpdk.org/patch/138996
_Testing PASS_
Submitter: Dengdui Huang <huangdengdui at huawei.com>
Date: Saturday, March 30 2024 07:44:09
DPDK git baseline: Repo:dpdk
Branch: master
CommitID:a9778aad62470a38ccbb4e09a2a6bf0cc2e0e36d
138996 --> testing pass
Test environment and result as below:
+-----------------+----------+
| Environment | abi_test |
+=================+==========+
| CentOS Stream 9 | PASS |
+-----------------+----------+
| CentOS Stream 8 | PASS |
+-----------------+----------+
| Ubuntu 22.04 | PASS |
+-----------------+----------+
CentOS Stream 9
Kernel: 5.4.0-167-generic
Compiler: gcc 11.4.1 20230605
CentOS Stream 8
Kernel: 5.4.0-167-generic
Compiler: gcc 8.5.0 20210514
Ubuntu 22.04
Kernel: 5.4.0-167-generic
Compiler: gcc 11.4.0
To view detailed results, visit:
https://lab.dpdk.org/results/dashboard/patchsets/29684/
UNH-IOL DPDK Community Lab
To manage your email subscriptions, visit:
https://lab.dpdk.org/results/dashboard/preferences/subscriptions/
More information about the test-report
mailing list