|SUCCESS| pw138996 [PATCH] app/testpmd: handle IEEE1588 init fail
dpdklab at iol.unh.edu
dpdklab at iol.unh.edu
Sat Mar 30 09:40:35 CET 2024
Test-Label: iol-unit-arm64-testing
Test-Status: SUCCESS
http://dpdk.org/patch/138996
_Testing PASS_
Submitter: Dengdui Huang <huangdengdui at huawei.com>
Date: Saturday, March 30 2024 07:44:09
DPDK git baseline: Repo:dpdk
Branch: master
CommitID:a9778aad62470a38ccbb4e09a2a6bf0cc2e0e36d
138996 --> testing pass
Test environment and result as below:
+-----------------+---------------------------+------------------------------+----------------+
| Environment | cryptodev_sw_zuc_autotest | cryptodev_sw_snow3g_autotest | dpdk_unit_test |
+=================+===========================+==============================+================+
| Debian 12 (arm) | PASS | PASS | PASS |
+-----------------+---------------------------+------------------------------+----------------+
| Fedora 37 (ARM) | SKIPPED | SKIPPED | PASS |
+-----------------+---------------------------+------------------------------+----------------+
Debian 12 (arm)
Kernel: Container Host Kernel
Compiler: gcc 12.2.0
Fedora 37 (ARM)
Kernel: Depends on container host
Compiler: gcc 12.3.1
To view detailed results, visit:
https://lab.dpdk.org/results/dashboard/patchsets/29684/
UNH-IOL DPDK Community Lab
To manage your email subscriptions, visit:
https://lab.dpdk.org/results/dashboard/preferences/subscriptions/
More information about the test-report
mailing list