|SUCCESS| pw139011 [PATCH] version: 24.07-rc0

dpdklab at iol.unh.edu dpdklab at iol.unh.edu
Sat Mar 30 19:45:14 CET 2024


Test-Label: iol-abi-testing
Test-Status: SUCCESS
http://dpdk.org/patch/139011

_Testing PASS_

Submitter: David Marchand <david.marchand at redhat.com>
Date: Saturday, March 30 2024 17:54:37 
DPDK git baseline: Repo:dpdk
  Branch: master
  CommitID:a9778aad62470a38ccbb4e09a2a6bf0cc2e0e36d

139011 --> testing pass

Test environment and result as below:

+-----------------+----------+
|   Environment   | abi_test |
+=================+==========+
| Debian 11 (arm) | PASS     |
+-----------------+----------+
| CentOS Stream 8 | PASS     |
+-----------------+----------+
| Fedora 38       | PASS     |
+-----------------+----------+
| Fedora 39       | PASS     |
+-----------------+----------+


Debian 11 (arm)
	Kernel: Container Host Kernel
	Compiler: gcc 10.2.1

CentOS Stream 8
	Kernel: 5.4.0-167-generic
	Compiler: gcc 8.5.0 20210514

Fedora 38
	Kernel: Depends on container host
	Compiler: gcc 13.2.1

Fedora 39
	Kernel: Depends on container host
	Compiler: clang 17.0.6

To view detailed results, visit:
https://lab.dpdk.org/results/dashboard/patchsets/29686/

UNH-IOL DPDK Community Lab

To manage your email subscriptions, visit: 
https://lab.dpdk.org/results/dashboard/preferences/subscriptions/


More information about the test-report mailing list