|WARNING| [GIT MASTER] 03f2ed63a5f4e4b57365e358b49095ef4a82cf7d
dpdklab at iol.unh.edu
dpdklab at iol.unh.edu
Tue Apr 1 12:47:13 CEST 2025
_Testing issues_
Branch: tags/v24.11
03f2ed63a5f4e4b57365e358b49095ef4a82cf7d --> testing issues
Upstream job id: ACVP-FIPS-testing#9409
Test environment and result as below:
+--------------------+----------------------+----------------------+
| Environment | compressdev_zlib_pmd | dpdk_fips_validation |
+====================+======================+======================+
| Ubuntu 22.04 (ARM) | PASS | SKIPPED |
+--------------------+----------------------+----------------------+
| Ubuntu 22.04 | PASS | SKIPPED |
+--------------------+----------------------+----------------------+
| Ubuntu 20.04 | SKIPPED | WARN |
+--------------------+----------------------+----------------------+
==== 20 line log output for Ubuntu 20.04 (dpdk_fips_validation): ====
INFO:root:Uploading response file...
INFO:root:Fetching verdict...
INFO:root:Downloading verdict for vector set 3036816
INFO:root:Vector set verdict not ready, waiting 30 seconds...
INFO:root:Vector set verdict not ready, waiting 30 seconds...
INFO:root:Vector set verdict not ready, waiting 30 seconds...
INFO:root:Done
INFO:root:Using response file...
INFO:root:Uploading response file...
INFO:root:Fetching verdict...
INFO:root:Downloading verdict for vector set 3036824
INFO:root:Vector set verdict not ready, waiting 30 seconds...
INFO:root:Vector set verdict not ready, waiting 30 seconds...
INFO:root:Done
INFO:root:Using response file...
INFO:root:Uploading response file...
INFO:root:Fetching verdict...
INFO:root:Downloading verdict for vector set 3036825
INFO:root:Vector set verdict not ready, waiting 30 seconds...
INFO:root:Done
==== End log output ====
Ubuntu 22.04 (ARM)
Kernel: 5.15.0-97-generic
Compiler: gcc gcc (Ubuntu 11.4.0-1ubuntu1~22.04) 11.4.0
Ubuntu 22.04
Kernel: 5.15.0-100-generic
Compiler: gcc gcc (Ubuntu 11.4.0-1ubuntu1~22.04) 11.4.0
Ubuntu 20.04
Kernel: Depends on container host
Compiler: gcc (Ubuntu 9.4.0-1ubuntu1~20.04.2) 9.4.0
To view detailed results, visit:
https://lab.dpdk.org/results/dashboard/tarballs/33109/
UNH-IOL DPDK Community Lab
To manage your email subscriptions, visit:
https://lab.dpdk.org/results/dashboard/preferences/subscriptions/
More information about the test-report
mailing list