|SUCCESS| pw152713-152716 [PATCH] [v2,4/4] net/null: count all queue

dpdklab at iol.unh.edu dpdklab at iol.unh.edu
Wed Apr 2 02:51:50 CEST 2025


Test-Label: iol-unit-arm64-testing
Test-Status: SUCCESS
http://dpdk.org/patch/152716

_Testing PASS_

Submitter: Stephen Hemminger <stephen at networkplumber.org>
Date: Tuesday, April 01 2025 23:47:29 
DPDK git baseline: Repo:dpdk
  Branch: master
  CommitID:b39d90d892bf0ab50676fabb0c352666be127c4b

152713-152716 --> testing pass

Upstream job id: Aarch32-Unit-Test#5813

Test environment and result as below:

+-----------------------------+--------------+------------------------------+----------------+---------------------------+
|         Environment         | lpm_autotest | cryptodev_sw_snow3g_autotest | dpdk_unit_test | cryptodev_sw_zuc_autotest |
+=============================+==============+==============================+================+===========================+
| Ubuntu 20.04 ARM SVE        | PASS         | SKIPPED                      | SKIPPED        | SKIPPED                   |
+-----------------------------+--------------+------------------------------+----------------+---------------------------+
| Debian 12 (arm)             | SKIPPED      | PASS                         | PASS           | PASS                      |
+-----------------------------+--------------+------------------------------+----------------+---------------------------+
| 32-bit Ubuntu 22.04.4 (ARM) | SKIPPED      | SKIPPED                      | PASS           | SKIPPED                   |
+-----------------------------+--------------+------------------------------+----------------+---------------------------+
| Fedora 40 (ARM)             | SKIPPED      | SKIPPED                      | PASS           | SKIPPED                   |
+-----------------------------+--------------+------------------------------+----------------+---------------------------+
| Fedora 41 (ARM)             | SKIPPED      | SKIPPED                      | PASS           | SKIPPED                   |
+-----------------------------+--------------+------------------------------+----------------+---------------------------+
| Fedora 40 (ARM Clang)       | SKIPPED      | SKIPPED                      | PASS           | SKIPPED                   |
+-----------------------------+--------------+------------------------------+----------------+---------------------------+
| Fedora 41 (ARM Clang)       | SKIPPED      | SKIPPED                      | PASS           | SKIPPED                   |
+-----------------------------+--------------+------------------------------+----------------+---------------------------+
| RHEL9 (ARM)                 | SKIPPED      | SKIPPED                      | PASS           | SKIPPED                   |
+-----------------------------+--------------+------------------------------+----------------+---------------------------+
| Ubuntu 22.04 (ARM)          | SKIPPED      | SKIPPED                      | PASS           | SKIPPED                   |
+-----------------------------+--------------+------------------------------+----------------+---------------------------+
| Ubuntu 24.04 (ARM)          | SKIPPED      | SKIPPED                      | PASS           | SKIPPED                   |
+-----------------------------+--------------+------------------------------+----------------+---------------------------+
| CentOS Stream 10 (ARM)      | SKIPPED      | SKIPPED                      | PASS           | SKIPPED                   |
+-----------------------------+--------------+------------------------------+----------------+---------------------------+
| Ubuntu 20.04 (ARM)          | SKIPPED      | SKIPPED                      | PASS           | SKIPPED                   |
+-----------------------------+--------------+------------------------------+----------------+---------------------------+
| CentOS Stream 9 (ARM)       | SKIPPED      | SKIPPED                      | PASS           | SKIPPED                   |
+-----------------------------+--------------+------------------------------+----------------+---------------------------+


Ubuntu 20.04 ARM SVE
	Kernel: Depends on container host
	Compiler: gcc (Ubuntu 10.5.0-1ubuntu1~20.04) 10.5.0

Debian 12 (arm)
	Kernel: Depends on container host
	Compiler: gcc (Debian 12.2.0-14) 12.2.0

32-bit Ubuntu 22.04.4 (ARM)
	Kernel: 5.15.83+ aarch64
	Compiler: gcc (Ubuntu 11.4.0-1ubuntu1~22.04) 11.4.0

Fedora 40 (ARM)
	Kernel: Depends on container host
	Compiler: gcc 14.2.1 20240912 (Red Hat 14.2.1-3)

Fedora 41 (ARM)
	Kernel: Depends on container host
	Compiler: gcc 14.2.1 20240912 (Red Hat 14.2.1-3)

Fedora 40 (ARM Clang)
	Kernel: Depends on container host
	Compiler: clang 18.1.8 (Fedora 18.1.8-1.fc40)

Fedora 41 (ARM Clang)
	Kernel: Depends on container host
	Compiler: clang 19.1.5 (Fedora 19.1.5-1.fc41)

RHEL9 (ARM)
	Kernel: Depends on container host
	Compiler: gcc 11.5.0 20240719 (Red Hat 11.5.0-2)

Ubuntu 22.04 (ARM)
	Kernel: Depends on container host
	Compiler: gcc (Ubuntu 11.4.0-1ubuntu1~22.04) 11.4.0

Ubuntu 24.04 (ARM)
	Kernel: Depends on container host
	Compiler: gcc (Ubuntu 13.3.0-6ubuntu2~24.04) 13.3.0

CentOS Stream 10 (ARM)
	Kernel: Depends on container host
	Compiler: gcc 14.2.1 20241104 (Red Hat 14.2.1-6)

Ubuntu 20.04 (ARM)
	Kernel: Depends on container host
	Compiler: gcc (Ubuntu 9.4.0-1ubuntu1~20.04.2) 9.4.0

CentOS Stream 9 (ARM)
	Kernel: Depends on container host
	Compiler: gcc 11.5.0 20240719 (Red Hat 11.5.0-2)

To view detailed results, visit:
https://lab.dpdk.org/results/dashboard/patchsets/32924/

UNH-IOL DPDK Community Lab

To manage your email subscriptions, visit: 
https://lab.dpdk.org/results/dashboard/preferences/subscriptions/


More information about the test-report mailing list