|SUCCESS| pw152792-152801 [PATCH] [v2,10/10] raw/ifpga: use common b
dpdklab at iol.unh.edu
dpdklab at iol.unh.edu
Mon Apr 7 22:49:52 CEST 2025
Test-Label: iol-compile-amd64-testing
Test-Status: SUCCESS
http://dpdk.org/patch/152801
_Testing PASS_
Submitter: Bruce Richardson <bruce.richardson at intel.com>
Date: Monday, April 07 2025 15:25:09
DPDK git baseline: Repo:dpdk
Branch: master
CommitID:dd178ee7b4325f2461f7d86285ba27ba8ccef4a1
152792-152801 --> testing pass
Upstream job id: Generic-DPDK-Compile-Meson#378053
Test environment and result as below:
+-----------------------------------+--------------------+-------------------+------------------+
| Environment | dpdk_meson_compile | dpdk_compile_spdk | dpdk_compile_ovs |
+===================================+====================+===================+==================+
| CentOS Stream 10 | PASS | SKIPPED | SKIPPED |
+-----------------------------------+--------------------+-------------------+------------------+
| Debian 12 | PASS | PASS | SKIPPED |
+-----------------------------------+--------------------+-------------------+------------------+
| Fedora 40 (Clang) | PASS | PASS | SKIPPED |
+-----------------------------------+--------------------+-------------------+------------------+
| Fedora 40 | PASS | PASS | SKIPPED |
+-----------------------------------+--------------------+-------------------+------------------+
| openSUSE Leap 15 | PASS | SKIPPED | SKIPPED |
+-----------------------------------+--------------------+-------------------+------------------+
| Fedora 41 | PASS | PASS | PASS |
+-----------------------------------+--------------------+-------------------+------------------+
| Fedora 41 (Clang) | PASS | PASS | PASS |
+-----------------------------------+--------------------+-------------------+------------------+
| Ubuntu 20.04 | PASS | SKIPPED | SKIPPED |
+-----------------------------------+--------------------+-------------------+------------------+
| Ubuntu 22.04 | PASS | PASS | SKIPPED |
+-----------------------------------+--------------------+-------------------+------------------+
| Ubuntu 24.04 | PASS | PASS | PASS |
+-----------------------------------+--------------------+-------------------+------------------+
| RHEL8 | PASS | SKIPPED | SKIPPED |
+-----------------------------------+--------------------+-------------------+------------------+
| RHEL9 | PASS | SKIPPED | SKIPPED |
+-----------------------------------+--------------------+-------------------+------------------+
| FreeBSD 13.5 | PASS | SKIPPED | SKIPPED |
+-----------------------------------+--------------------+-------------------+------------------+
| Alpine | PASS | SKIPPED | SKIPPED |
+-----------------------------------+--------------------+-------------------+------------------+
| Ubuntu 24.04 32 Bit Cross Compile | PASS | SKIPPED | SKIPPED |
+-----------------------------------+--------------------+-------------------+------------------+
CentOS Stream 10
Kernel: Depends on container host
Compiler: gcc 14.2.1 20241104 (Red Hat 14.2.1-6)
Debian 12
Kernel: Depends on container host
Compiler: gcc (Debian 12.2.0-14) 12.2.0
Fedora 40 (Clang)
Kernel: Depends on container host
Compiler: clang 18.1.8 (Fedora 18.1.8-1.fc40)
Fedora 40
Kernel: Depends on container host
Compiler: gcc 14.2.1 20240912 (Red Hat 14.2.1-3)
openSUSE Leap 15
Kernel: Depends on container host
Compiler: gcc (SUSE Linux) 7.5.0
Fedora 41
Kernel: Depends on container host
Compiler: gcc 14.2.1 20240912 (Red Hat 14.2.1-3)
Fedora 41 (Clang)
Kernel: Depends on container host
Compiler: clang 19.1.5 (Fedora 19.1.5-1.fc41)
Ubuntu 20.04
Kernel: Depends on container host
Compiler: gcc (Ubuntu 9.4.0-1ubuntu1~20.04.2) 9.4.0
Ubuntu 22.04
Kernel: Depends on container host
Compiler: gcc (Ubuntu 11.4.0-1ubuntu1~22.04) 11.4.0
Ubuntu 24.04
Kernel: Depends on container host
Compiler: gcc (Ubuntu 13.3.0-6ubuntu2~24.04) 13.3.0
RHEL8
Kernel: Depends on container host
Compiler: gcc 8.5.0 20210514 (Red Hat 8.5.0-22)
RHEL9
Kernel: Depends on container host
Compiler: gcc 11.5.0 20240719 (Red Hat 11.5.0-2)
FreeBSD 13.5
Kernel: 13.5-RELEASE
Compiler: clang 19.1.7
Alpine
Kernel: Depends on container host
Compiler: gcc (Alpine 14.2.0) 14.2.0
Ubuntu 24.04 32 Bit Cross Compile
Kernel: Depends on container host
Compiler: gcc (Ubuntu 13.3.0-6ubuntu2~24.04) 13.3.0
To view detailed results, visit:
https://lab.dpdk.org/results/dashboard/patchsets/32955/
UNH-IOL DPDK Community Lab
To manage your email subscriptions, visit:
https://lab.dpdk.org/results/dashboard/preferences/subscriptions/
More information about the test-report
mailing list