|SUCCESS| pw152840-152845 [PATCH] [v5,6/6] bus/vmbus: set event for
dpdklab at iol.unh.edu
dpdklab at iol.unh.edu
Wed Apr 9 12:27:52 CEST 2025
Test-Label: iol-sample-apps-testing
Test-Status: SUCCESS
http://dpdk.org/patch/152845
_Testing PASS_
Submitter: Long Li <longli at linuxonhyperv.com>
Date: Tuesday, April 08 2025 21:53:56
DPDK git baseline: Repo:dpdk
Branch: master
CommitID:0b2f016cd76d4fb382eea54b8a6aaf9474586fbc
152840-152845 --> testing pass
Upstream job id: ACVP-FIPS-testing#9487
Test environment and result as below:
+--------------------+----------------------+----------------------+
| Environment | compressdev_zlib_pmd | dpdk_fips_validation |
+====================+======================+======================+
| Ubuntu 22.04 (ARM) | PASS | SKIPPED |
+--------------------+----------------------+----------------------+
| Ubuntu 22.04 | PASS | SKIPPED |
+--------------------+----------------------+----------------------+
| Ubuntu 20.04 | SKIPPED | PASS |
+--------------------+----------------------+----------------------+
Ubuntu 22.04 (ARM)
Kernel: 5.15.0-97-generic
Compiler: gcc gcc (Ubuntu 11.4.0-1ubuntu1~22.04) 11.4.0
Ubuntu 22.04
Kernel: 5.15.0-100-generic
Compiler: gcc gcc (Ubuntu 11.4.0-1ubuntu1~22.04) 11.4.0
Ubuntu 20.04
Kernel: Depends on container host
Compiler: gcc (Ubuntu 9.4.0-1ubuntu1~20.04.2) 9.4.0
To view detailed results, visit:
https://lab.dpdk.org/results/dashboard/patchsets/32974/
UNH-IOL DPDK Community Lab
To manage your email subscriptions, visit:
https://lab.dpdk.org/results/dashboard/preferences/subscriptions/
More information about the test-report
mailing list