|WARNING| pw152919-152930 [PATCH] [v1,12/12] app/graph: add IP6 look

dpdklab at iol.unh.edu dpdklab at iol.unh.edu
Wed Apr 16 06:46:45 CEST 2025


Test-Label: iol-sample-apps-testing
Test-Status: WARNING
http://dpdk.org/patch/152930

_Testing issues_

Submitter: Ankur Dwivedi <adwivedi at marvell.com>
Date: Tuesday, April 15 2025 12:10:52 
DPDK git baseline: Repo:dpdk
  Branch: master
  CommitID:ca1690ebd224f148268285b15b97441ccdbdd07e

152919-152930 --> testing issues

Upstream job id: Template-DTS-Pipeline#221689

Test environment and result as below:

+--------------------+----------------------+----------------------+
|    Environment     | compressdev_zlib_pmd | dpdk_fips_validation |
+====================+======================+======================+
| Ubuntu 22.04 (ARM) | PASS                 | SKIPPED              |
+--------------------+----------------------+----------------------+
| Ubuntu 22.04       | PASS                 | SKIPPED              |
+--------------------+----------------------+----------------------+
| Ubuntu 20.04       | SKIPPED              | WARN                 |
+--------------------+----------------------+----------------------+

==== 20 line log output for Ubuntu 20.04 (dpdk_fips_validation): ====
|         ^~~~~~~~~~~~~
../lib/node/ip6_lookup_fib.c:52:2: error: ISO C90 forbids variable length array 'next_hop' [-Werror=vla]
52 |  uint64_t next_hop[nb_objs];
|  ^~~~~~~~
cc1: all warnings being treated as errors
[576/3513] Compiling C object lib/librte_node.a.p/node_ip6_lookup.c.o
[577/3513] Generating graph.sym_chk with a custom command (wrapped by meson to capture output)
[578/3513] Generating table.sym_chk with a custom command (wrapped by meson to capture output)
[579/3513] Compiling C object lib/librte_node.a.p/node_kernel_tx.c.o
[580/3513] Compiling C object lib/librte_node.a.p/node_ip4_rewrite.c.o
[581/3513] Compiling C object lib/librte_node.a.p/node_log.c.o
[582/3513] Compiling C object lib/librte_pipeline.a.p/pipeline_rte_swx_pipeline_spec.c.o
[583/3513] Compiling C object lib/librte_node.a.p/node_kernel_rx.c.o
[584/3513] Compiling C object lib/librte_node.a.p/node_pkt_cls.c.o
[585/3513] Compiling C object lib/librte_node.a.p/node_ip6_rewrite.c.o
[586/3513] Compiling C object lib/librte_vhost.a.p/vhost_vhost_crypto.c.o
[587/3513] Compiling C object lib/librte_pipeline.a.p/pipeline_rte_swx_pipeline.c.o
[588/3513] Compiling C object lib/librte_vhost.a.p/vhost_virtio_net.c.o
[589/3513] Compiling C object lib/librte_pipeline.a.p/pipeline_rte_table_action.c.o
ninja: build stopped: subcommand failed.
==== End log output ====

Ubuntu 22.04 (ARM)
	Kernel: 5.15.0-97-generic
	Compiler: gcc gcc (Ubuntu 11.4.0-1ubuntu1~22.04) 11.4.0

Ubuntu 22.04
	Kernel: 5.15.0-100-generic
	Compiler: gcc gcc (Ubuntu 11.4.0-1ubuntu1~22.04) 11.4.0

Ubuntu 20.04
	Kernel: Depends on container host
	Compiler: gcc (Ubuntu 9.4.0-1ubuntu1~20.04.2) 9.4.0

To view detailed results, visit:
https://lab.dpdk.org/results/dashboard/patchsets/33010/

UNH-IOL DPDK Community Lab

To manage your email subscriptions, visit: 
https://lab.dpdk.org/results/dashboard/preferences/subscriptions/


More information about the test-report mailing list