|WARNING| pw153051-153055 [PATCH] [v8,5/5] test/graph_feature_arc: a

dpdklab at iol.unh.edu dpdklab at iol.unh.edu
Sat Apr 19 13:39:03 CEST 2025


Test-Label: iol-sample-apps-testing
Test-Status: WARNING
http://dpdk.org/patch/153055

_Testing issues_

Submitter: Nitin Saxena <nsaxena at marvell.com>
Date: Saturday, April 19 2025 10:11:22 
DPDK git baseline: Repo:dpdk
  Branch: master
  CommitID:ca1690ebd224f148268285b15b97441ccdbdd07e

153051-153055 --> testing issues

Upstream job id: ACVP-FIPS-testing#9587

Test environment and result as below:

+--------------------+----------------------+----------------------+
|    Environment     | compressdev_zlib_pmd | dpdk_fips_validation |
+====================+======================+======================+
| Ubuntu 22.04 (ARM) | PASS                 | SKIPPED              |
+--------------------+----------------------+----------------------+
| Ubuntu 22.04       | PASS                 | SKIPPED              |
+--------------------+----------------------+----------------------+
| Ubuntu 20.04       | SKIPPED              | WARN                 |
+--------------------+----------------------+----------------------+

==== 20 line log output for Ubuntu 20.04 (dpdk_fips_validation): ====
|           ^~~~
cc1: all warnings being treated as errors
[3182/3515] Compiling C object app/dpdk-test-compress-perf.p/test-compress-perf_comp_perf_options_parse.c.o
[3183/3515] Compiling C object app/dpdk-test-compress-perf.p/test-compress-perf_main.c.o
[3184/3515] Compiling C object app/dpdk-test-compress-perf.p/test-compress-perf_comp_perf_test_throughput.c.o
[3185/3515] Compiling C object app/dpdk-test-bbdev.p/test-bbdev_test_bbdev_vector.c.o
[3186/3515] Compiling C object app/dpdk-test-crypto-perf.p/test-crypto-perf_cperf_test_common.c.o
[3187/3515] Compiling C object app/dpdk-test-compress-perf.p/test-compress-perf_comp_perf_test_common.c.o
[3188/3515] Compiling C object app/dpdk-test-compress-perf.p/test-compress-perf_comp_perf_test_cyclecount.c.o
[3189/3515] Compiling C object app/dpdk-test-crypto-perf.p/test-crypto-perf_cperf_ops.c.o
[3190/3515] Generating rte_baseband_acc.sym_chk with a custom command (wrapped by meson to capture output)
[3191/3515] Compiling C object app/dpdk-test-compress-perf.p/test-compress-perf_comp_perf_test_verify.c.o
[3192/3515] Compiling C object app/dpdk-test-crypto-perf.p/test-crypto-perf_cperf_options_parsing.c.o
[3193/3515] Compiling C object app/dpdk-test-crypto-perf.p/test-crypto-perf_cperf_test_vector_parsing.c.o
[3194/3515] Compiling C object app/dpdk-test-crypto-perf.p/test-crypto-perf_cperf_test_pmd_cyclecount.c.o
[3195/3515] Compiling C object app/dpdk-test-crypto-perf.p/test-crypto-perf_cperf_test_throughput.c.o
[3196/3515] Compiling C object app/dpdk-test-crypto-perf.p/test-crypto-perf_cperf_test_latency.c.o
[3197/3515] Compiling C object app/dpdk-test-bbdev.p/test-bbdev_test_bbdev_perf.c.o
[3198/3515] Compiling C object drivers/libtmp_rte_crypto_cnxk.a.p/crypto_cnxk_cn10k_cryptodev_ops.c.o
ninja: build stopped: subcommand failed.
==== End log output ====

Ubuntu 22.04 (ARM)
	Kernel: 5.15.0-97-generic
	Compiler: gcc gcc (Ubuntu 11.4.0-1ubuntu1~22.04) 11.4.0

Ubuntu 22.04
	Kernel: 5.15.0-100-generic
	Compiler: gcc gcc (Ubuntu 11.4.0-1ubuntu1~22.04) 11.4.0

Ubuntu 20.04
	Kernel: Depends on container host
	Compiler: gcc (Ubuntu 9.4.0-1ubuntu1~20.04.2) 9.4.0

To view detailed results, visit:
https://lab.dpdk.org/results/dashboard/patchsets/33039/

UNH-IOL DPDK Community Lab

To manage your email subscriptions, visit: 
https://lab.dpdk.org/results/dashboard/preferences/subscriptions/


More information about the test-report mailing list