|SUCCESS| pw153074-153077 [PATCH] [5/5] net/qede: fix rx_buf_size ca

dpdklab at iol.unh.edu dpdklab at iol.unh.edu
Tue Apr 22 21:32:58 CEST 2025


Test-Label: iol-sample-apps-testing
Test-Status: SUCCESS
http://dpdk.org/patch/153077

_Testing PASS_

Submitter: Edwin Brossette <edwin.brossette at 6wind.com>
Date: Tuesday, April 22 2025 15:51:43 
DPDK git baseline: Repo:dpdk
  Branch: master
  CommitID:f64bb46d36a3784c22c1f2712aa24a42009264a3

153074-153077 --> testing pass

Upstream job id: ACVP-FIPS-testing#9610

Test environment and result as below:

+--------------------+----------------------+----------------------+
|    Environment     | compressdev_zlib_pmd | dpdk_fips_validation |
+====================+======================+======================+
| Ubuntu 22.04 (ARM) | PASS                 | SKIPPED              |
+--------------------+----------------------+----------------------+
| Ubuntu 22.04       | PASS                 | SKIPPED              |
+--------------------+----------------------+----------------------+
| Ubuntu 20.04       | SKIPPED              | PASS                 |
+--------------------+----------------------+----------------------+


Ubuntu 22.04 (ARM)
	Kernel: 5.15.0-97-generic
	Compiler: gcc gcc (Ubuntu 11.4.0-1ubuntu1~22.04) 11.4.0

Ubuntu 22.04
	Kernel: 5.15.0-100-generic
	Compiler: gcc gcc (Ubuntu 11.4.0-1ubuntu1~22.04) 11.4.0

Ubuntu 20.04
	Kernel: Depends on container host
	Compiler: gcc (Ubuntu 9.4.0-1ubuntu1~20.04.2) 9.4.0

To view detailed results, visit:
https://lab.dpdk.org/results/dashboard/patchsets/33051/

UNH-IOL DPDK Community Lab

To manage your email subscriptions, visit: 
https://lab.dpdk.org/results/dashboard/preferences/subscriptions/


More information about the test-report mailing list