|SUCCESS| [GIT MASTER] c4b6f6ff54c32e922971e1403f19aba9ea614896

dpdklab at iol.unh.edu dpdklab at iol.unh.edu
Wed Apr 23 11:33:25 CEST 2025


_Testing PASS_

Branch: tags/v23.11

c4b6f6ff54c32e922971e1403f19aba9ea614896 --> testing pass

Upstream job id: Generic-DPDK-Compile-Meson#382228

Test environment and result as below:

+------------------------+--------------------+
|      Environment       | dpdk_meson_compile |
+========================+====================+
| Fedora 40 (ARM Clang)  | PASS               |
+------------------------+--------------------+
| Fedora 41 (ARM)        | PASS               |
+------------------------+--------------------+
| Fedora 41 (ARM Clang)  | PASS               |
+------------------------+--------------------+
| Ubuntu 20.04 (ARM)     | PASS               |
+------------------------+--------------------+
| Ubuntu 24.04 (ARM)     | PASS               |
+------------------------+--------------------+
| Ubuntu 22.04 (ARM)     | PASS               |
+------------------------+--------------------+
| CentOS Stream 10 (ARM) | PASS               |
+------------------------+--------------------+
| Debian 12 (arm)        | PASS               |
+------------------------+--------------------+
| CentOS Stream 9 (ARM)  | PASS               |
+------------------------+--------------------+


Fedora 40 (ARM Clang)
	Kernel: Depends on container host
	Compiler: clang 18.1.8 (Fedora 18.1.8-1.fc40)

Fedora 41 (ARM)
	Kernel: Depends on container host
	Compiler: gcc 14.2.1 20240912 (Red Hat 14.2.1-3)

Fedora 41 (ARM Clang)
	Kernel: Depends on container host
	Compiler: clang 19.1.5 (Fedora 19.1.5-1.fc41)

Ubuntu 20.04 (ARM)
	Kernel: Depends on container host
	Compiler: gcc (Ubuntu 9.4.0-1ubuntu1~20.04.2) 9.4.0

Ubuntu 24.04 (ARM)
	Kernel: Depends on container host
	Compiler: gcc (Ubuntu 13.3.0-6ubuntu2~24.04) 13.3.0

Ubuntu 22.04 (ARM)
	Kernel: Depends on container host
	Compiler: gcc (Ubuntu 11.4.0-1ubuntu1~22.04) 11.4.0

CentOS Stream 10 (ARM)
	Kernel: Depends on container host
	Compiler: gcc 14.2.1 20241104 (Red Hat 14.2.1-6)

Debian 12 (arm)
	Kernel: Depends on container host
	Compiler: gcc (Debian 12.2.0-14) 12.2.0

CentOS Stream 9 (ARM)
	Kernel: Depends on container host
	Compiler: gcc 11.5.0 20240719 (Red Hat 11.5.0-2)

To view detailed results, visit:
https://lab.dpdk.org/results/dashboard/tarballs/33333/

UNH-IOL DPDK Community Lab

To manage your email subscriptions, visit: 
https://lab.dpdk.org/results/dashboard/preferences/subscriptions/


More information about the test-report mailing list