|SUCCESS| pw153138-153140 [PATCH] [v3,4/4] app/testpmd: support disa

dpdklab at iol.unh.edu dpdklab at iol.unh.edu
Thu Apr 24 10:28:37 CEST 2025


Test-Label: iol-compile-amd64-testing
Test-Status: SUCCESS
http://dpdk.org/patch/153140

_Testing PASS_

Submitter: fengchengwen <fengchengwen at huawei.com>
Date: Thursday, April 24 2025 06:17:49 
DPDK git baseline: Repo:dpdk
  Branch: master
  CommitID:9db0f923e893e644f2e2df5ce720825cd79a5385

153138-153140 --> testing pass

Upstream job id: Windows-Compile-DPDK-VS#5561

Test environment and result as below:

+---------------------+--------------------+-------------------+
|     Environment     | dpdk_meson_compile | dpdk_msvc_compile |
+=====================+====================+===================+
| Ubuntu 20.04        | PASS               | SKIPPED           |
+---------------------+--------------------+-------------------+
| FreeBSD 14.2        | PASS               | SKIPPED           |
+---------------------+--------------------+-------------------+
| Windows Server 2022 | SKIPPED            | PASS              |
+---------------------+--------------------+-------------------+


Ubuntu 20.04
	Kernel: 4.19.325-0419325-generic
	Compiler: gcc (Ubuntu 9.4.0-1ubuntu1~20.04.2) 9.4.0

FreeBSD 14.2
	Kernel: 14.2-RELEASE
	Compiler: clang 18.1.6

Windows Server 2022
	Kernel: 10.0.20348.2031
	Compiler: clang 15.0.7, gcc 14.1.0 (MinGW), and MSVC VS 19.39.33521

To view detailed results, visit:
https://lab.dpdk.org/results/dashboard/patchsets/33060/

UNH-IOL DPDK Community Lab

To manage your email subscriptions, visit: 
https://lab.dpdk.org/results/dashboard/preferences/subscriptions/


More information about the test-report mailing list