|SUCCESS| pw153164 [PATCH] [v2,1/1] bus/pci: introduce get_iova_mode
dpdklab at iol.unh.edu
dpdklab at iol.unh.edu
Sun Apr 27 06:56:54 CEST 2025
Test-Label: iol-unit-arm64-testing
Test-Status: SUCCESS
http://dpdk.org/patch/153164
_Testing PASS_
Submitter: Kyo Liu <kyo.liu at nebula-matrix.com>
Date: Sunday, April 27 2025 01:36:11
DPDK git baseline: Repo:dpdk
Branch: master
CommitID:ca1690ebd224f148268285b15b97441ccdbdd07e
153164 --> testing pass
Upstream job id: Generic-Unit-Test-DPDK#333677
Test environment and result as below:
+-----------------------------+--------------+------------------------------+---------------------------+----------------+
| Environment | lpm_autotest | cryptodev_sw_snow3g_autotest | cryptodev_sw_zuc_autotest | dpdk_unit_test |
+=============================+==============+==============================+===========================+================+
| Ubuntu 20.04 ARM SVE | PASS | SKIPPED | SKIPPED | SKIPPED |
+-----------------------------+--------------+------------------------------+---------------------------+----------------+
| Debian 12 (arm) | SKIPPED | PASS | PASS | PASS |
+-----------------------------+--------------+------------------------------+---------------------------+----------------+
| CentOS Stream 9 (ARM) | SKIPPED | SKIPPED | SKIPPED | PASS |
+-----------------------------+--------------+------------------------------+---------------------------+----------------+
| CentOS Stream 10 (ARM) | SKIPPED | SKIPPED | SKIPPED | PASS |
+-----------------------------+--------------+------------------------------+---------------------------+----------------+
| Fedora 41 (ARM) | SKIPPED | SKIPPED | SKIPPED | PASS |
+-----------------------------+--------------+------------------------------+---------------------------+----------------+
| Fedora 40 (ARM) | SKIPPED | SKIPPED | SKIPPED | PASS |
+-----------------------------+--------------+------------------------------+---------------------------+----------------+
| Fedora 40 (ARM Clang) | SKIPPED | SKIPPED | SKIPPED | PASS |
+-----------------------------+--------------+------------------------------+---------------------------+----------------+
| Ubuntu 22.04 (ARM) | SKIPPED | SKIPPED | SKIPPED | PASS |
+-----------------------------+--------------+------------------------------+---------------------------+----------------+
| Ubuntu 20.04 (ARM) | SKIPPED | SKIPPED | SKIPPED | PASS |
+-----------------------------+--------------+------------------------------+---------------------------+----------------+
| Ubuntu 24.04 (ARM) | SKIPPED | SKIPPED | SKIPPED | PASS |
+-----------------------------+--------------+------------------------------+---------------------------+----------------+
| RHEL9 (ARM) | SKIPPED | SKIPPED | SKIPPED | PASS |
+-----------------------------+--------------+------------------------------+---------------------------+----------------+
| Fedora 41 (ARM Clang) | SKIPPED | SKIPPED | SKIPPED | PASS |
+-----------------------------+--------------+------------------------------+---------------------------+----------------+
| 32-bit Ubuntu 22.04.4 (ARM) | SKIPPED | SKIPPED | SKIPPED | PASS |
+-----------------------------+--------------+------------------------------+---------------------------+----------------+
Ubuntu 20.04 ARM SVE
Kernel: Depends on container host
Compiler: gcc (Ubuntu 10.5.0-1ubuntu1~20.04) 10.5.0
Debian 12 (arm)
Kernel: Depends on container host
Compiler: gcc (Debian 12.2.0-14) 12.2.0
CentOS Stream 9 (ARM)
Kernel: Depends on container host
Compiler: gcc 11.5.0 20240719 (Red Hat 11.5.0-2)
CentOS Stream 10 (ARM)
Kernel: Depends on container host
Compiler: gcc 14.2.1 20241104 (Red Hat 14.2.1-6)
Fedora 41 (ARM)
Kernel: Depends on container host
Compiler: gcc 14.2.1 20240912 (Red Hat 14.2.1-3)
Fedora 40 (ARM)
Kernel: Depends on container host
Compiler: gcc 14.2.1 20240912 (Red Hat 14.2.1-3)
Fedora 40 (ARM Clang)
Kernel: Depends on container host
Compiler: clang 18.1.8 (Fedora 18.1.8-1.fc40)
Ubuntu 22.04 (ARM)
Kernel: Depends on container host
Compiler: gcc (Ubuntu 11.4.0-1ubuntu1~22.04) 11.4.0
Ubuntu 20.04 (ARM)
Kernel: Depends on container host
Compiler: gcc (Ubuntu 9.4.0-1ubuntu1~20.04.2) 9.4.0
Ubuntu 24.04 (ARM)
Kernel: Depends on container host
Compiler: gcc (Ubuntu 13.3.0-6ubuntu2~24.04) 13.3.0
RHEL9 (ARM)
Kernel: Depends on container host
Compiler: gcc 11.5.0 20240719 (Red Hat 11.5.0-2)
Fedora 41 (ARM Clang)
Kernel: Depends on container host
Compiler: clang 19.1.5 (Fedora 19.1.5-1.fc41)
32-bit Ubuntu 22.04.4 (ARM)
Kernel: 5.15.83+ aarch64
Compiler: gcc (Ubuntu 11.4.0-1ubuntu1~22.04) 11.4.0
To view detailed results, visit:
https://lab.dpdk.org/results/dashboard/patchsets/33071/
UNH-IOL DPDK Community Lab
To manage your email subscriptions, visit:
https://lab.dpdk.org/results/dashboard/preferences/subscriptions/
More information about the test-report
mailing list