|SUCCESS| [GIT MASTER] c4b6f6ff54c32e922971e1403f19aba9ea614896

dpdklab at iol.unh.edu dpdklab at iol.unh.edu
Sun Apr 27 07:39:25 CEST 2025


_Testing PASS_

Branch: tags/v23.11

c4b6f6ff54c32e922971e1403f19aba9ea614896 --> testing pass

Upstream job id: Generic-VM-DPDK-Compile-Meson#34946

Test environment and result as below:

+---------------------+--------------------+-------------------+
|     Environment     | dpdk_meson_compile | dpdk_msvc_compile |
+=====================+====================+===================+
| Ubuntu 20.04        | PASS               | SKIPPED           |
+---------------------+--------------------+-------------------+
| FreeBSD 13.5        | PASS               | SKIPPED           |
+---------------------+--------------------+-------------------+
| FreeBSD 14.2        | PASS               | SKIPPED           |
+---------------------+--------------------+-------------------+
| Windows Server 2022 | SKIPPED            | PASS              |
+---------------------+--------------------+-------------------+


Ubuntu 20.04
	Kernel: 4.19.325-0419325-generic
	Compiler: gcc (Ubuntu 9.4.0-1ubuntu1~20.04.2) 9.4.0

FreeBSD 13.5
	Kernel: 13.5-RELEASE
	Compiler: clang 19.1.7

FreeBSD 14.2
	Kernel: 14.2-RELEASE
	Compiler: clang 18.1.6

Windows Server 2022
	Kernel: 10.0.20348.2031
	Compiler: clang 15.0.7, gcc 14.1.0 (MinGW), and MSVC VS 19.39.33521

To view detailed results, visit:
https://lab.dpdk.org/results/dashboard/tarballs/33367/

UNH-IOL DPDK Community Lab

To manage your email subscriptions, visit: 
https://lab.dpdk.org/results/dashboard/preferences/subscriptions/


More information about the test-report mailing list