|SUCCESS| pw153170 [PATCH] net/mlx5: add match on IPv6 fragment exte
dpdklab at iol.unh.edu
dpdklab at iol.unh.edu
Mon Apr 28 11:59:19 CEST 2025
Test-Label: iol-unit-arm64-testing
Test-Status: SUCCESS
http://dpdk.org/patch/153170
_Testing PASS_
Submitter: Maayan Kashani <mkashani at nvidia.com>
Date: Sunday, April 27 2025 11:25:36
DPDK git baseline: Repo:dpdk
Branch: master
CommitID:edd3f4b1265e6da707c46ca9b6c39d332647baea
153170 --> testing pass
Upstream job id: Generic-Unit-Test-DPDK#334022
Test environment and result as below:
+------------------------+----------------+
| Environment | dpdk_unit_test |
+========================+================+
| CentOS Stream 9 (ARM) | PASS |
+------------------------+----------------+
| CentOS Stream 10 (ARM) | PASS |
+------------------------+----------------+
| Debian 12 (arm) | PASS |
+------------------------+----------------+
| Fedora 41 (ARM Clang) | PASS |
+------------------------+----------------+
| Fedora 41 (ARM) | PASS |
+------------------------+----------------+
| Fedora 40 (ARM) | PASS |
+------------------------+----------------+
| RHEL9 (ARM) | PASS |
+------------------------+----------------+
| Fedora 40 (ARM Clang) | PASS |
+------------------------+----------------+
| Ubuntu 24.04 (ARM) | PASS |
+------------------------+----------------+
| Ubuntu 22.04 (ARM) | PASS |
+------------------------+----------------+
| Ubuntu 20.04 (ARM) | PASS |
+------------------------+----------------+
CentOS Stream 9 (ARM)
Kernel: Depends on container host
Compiler: gcc 11.5.0 20240719 (Red Hat 11.5.0-2)
CentOS Stream 10 (ARM)
Kernel: Depends on container host
Compiler: gcc 14.2.1 20241104 (Red Hat 14.2.1-6)
Debian 12 (arm)
Kernel: Depends on container host
Compiler: gcc (Debian 12.2.0-14) 12.2.0
Fedora 41 (ARM Clang)
Kernel: Depends on container host
Compiler: clang 19.1.5 (Fedora 19.1.5-1.fc41)
Fedora 41 (ARM)
Kernel: Depends on container host
Compiler: gcc 14.2.1 20240912 (Red Hat 14.2.1-3)
Fedora 40 (ARM)
Kernel: Depends on container host
Compiler: gcc 14.2.1 20240912 (Red Hat 14.2.1-3)
RHEL9 (ARM)
Kernel: Depends on container host
Compiler: gcc 11.5.0 20240719 (Red Hat 11.5.0-2)
Fedora 40 (ARM Clang)
Kernel: Depends on container host
Compiler: clang 18.1.8 (Fedora 18.1.8-1.fc40)
Ubuntu 24.04 (ARM)
Kernel: Depends on container host
Compiler: gcc (Ubuntu 13.3.0-6ubuntu2~24.04) 13.3.0
Ubuntu 22.04 (ARM)
Kernel: Depends on container host
Compiler: gcc (Ubuntu 11.4.0-1ubuntu1~22.04) 11.4.0
Ubuntu 20.04 (ARM)
Kernel: Depends on container host
Compiler: gcc (Ubuntu 9.4.0-1ubuntu1~20.04.2) 9.4.0
To view detailed results, visit:
https://lab.dpdk.org/results/dashboard/patchsets/33075/
UNH-IOL DPDK Community Lab
To manage your email subscriptions, visit:
https://lab.dpdk.org/results/dashboard/preferences/subscriptions/
More information about the test-report
mailing list