|SUCCESS| pw153186 [PATCH] app/crypto-perf: add RSA test vectors

dpdklab at iol.unh.edu dpdklab at iol.unh.edu
Tue Apr 29 13:18:42 CEST 2025


Test-Label: iol-unit-arm64-testing
Test-Status: SUCCESS
http://dpdk.org/patch/153186

_Testing PASS_

Submitter: Gowrishankar Muthukrishnan <gmuthukrishn at marvell.com>
Date: Tuesday, April 29 2025 09:58:52 
DPDK git baseline: Repo:dpdk
  Branch: master
  CommitID:ca1690ebd224f148268285b15b97441ccdbdd07e

153186 --> testing pass

Upstream job id: Generic-Unit-Test-DPDK#334211

Test environment and result as below:

+------------------------+----------------+--------------+------------------------------+---------------------------+
|      Environment       | dpdk_unit_test | lpm_autotest | cryptodev_sw_snow3g_autotest | cryptodev_sw_zuc_autotest |
+========================+================+==============+==============================+===========================+
| Fedora 40 (ARM)        | PASS           | SKIPPED      | SKIPPED                      | SKIPPED                   |
+------------------------+----------------+--------------+------------------------------+---------------------------+
| CentOS Stream 9 (ARM)  | PASS           | SKIPPED      | SKIPPED                      | SKIPPED                   |
+------------------------+----------------+--------------+------------------------------+---------------------------+
| Debian 12 (arm)        | PASS           | SKIPPED      | PASS                         | PASS                      |
+------------------------+----------------+--------------+------------------------------+---------------------------+
| CentOS Stream 10 (ARM) | PASS           | SKIPPED      | SKIPPED                      | SKIPPED                   |
+------------------------+----------------+--------------+------------------------------+---------------------------+
| Ubuntu 22.04 (ARM)     | PASS           | SKIPPED      | SKIPPED                      | SKIPPED                   |
+------------------------+----------------+--------------+------------------------------+---------------------------+
| Fedora 41 (ARM)        | PASS           | SKIPPED      | SKIPPED                      | SKIPPED                   |
+------------------------+----------------+--------------+------------------------------+---------------------------+
| Ubuntu 20.04 (ARM)     | PASS           | SKIPPED      | SKIPPED                      | SKIPPED                   |
+------------------------+----------------+--------------+------------------------------+---------------------------+
| Fedora 40 (ARM Clang)  | PASS           | SKIPPED      | SKIPPED                      | SKIPPED                   |
+------------------------+----------------+--------------+------------------------------+---------------------------+
| Fedora 41 (ARM Clang)  | PASS           | SKIPPED      | SKIPPED                      | SKIPPED                   |
+------------------------+----------------+--------------+------------------------------+---------------------------+
| RHEL9 (ARM)            | PASS           | SKIPPED      | SKIPPED                      | SKIPPED                   |
+------------------------+----------------+--------------+------------------------------+---------------------------+
| Ubuntu 24.04 (ARM)     | PASS           | SKIPPED      | SKIPPED                      | SKIPPED                   |
+------------------------+----------------+--------------+------------------------------+---------------------------+
| Ubuntu 20.04 ARM SVE   | SKIPPED        | PASS         | SKIPPED                      | SKIPPED                   |
+------------------------+----------------+--------------+------------------------------+---------------------------+


Fedora 40 (ARM)
	Kernel: Depends on container host
	Compiler: gcc 14.2.1 20240912 (Red Hat 14.2.1-3)

CentOS Stream 9 (ARM)
	Kernel: Depends on container host
	Compiler: gcc 11.5.0 20240719 (Red Hat 11.5.0-2)

Debian 12 (arm)
	Kernel: Depends on container host
	Compiler: gcc (Debian 12.2.0-14) 12.2.0

CentOS Stream 10 (ARM)
	Kernel: Depends on container host
	Compiler: gcc 14.2.1 20241104 (Red Hat 14.2.1-6)

Ubuntu 22.04 (ARM)
	Kernel: Depends on container host
	Compiler: gcc (Ubuntu 11.4.0-1ubuntu1~22.04) 11.4.0

Fedora 41 (ARM)
	Kernel: Depends on container host
	Compiler: gcc 14.2.1 20240912 (Red Hat 14.2.1-3)

Ubuntu 20.04 (ARM)
	Kernel: Depends on container host
	Compiler: gcc (Ubuntu 9.4.0-1ubuntu1~20.04.2) 9.4.0

Fedora 40 (ARM Clang)
	Kernel: Depends on container host
	Compiler: clang 18.1.8 (Fedora 18.1.8-1.fc40)

Fedora 41 (ARM Clang)
	Kernel: Depends on container host
	Compiler: clang 19.1.5 (Fedora 19.1.5-1.fc41)

RHEL9 (ARM)
	Kernel: Depends on container host
	Compiler: gcc 11.5.0 20240719 (Red Hat 11.5.0-2)

Ubuntu 24.04 (ARM)
	Kernel: Depends on container host
	Compiler: gcc (Ubuntu 13.3.0-6ubuntu2~24.04) 13.3.0

Ubuntu 20.04 ARM SVE
	Kernel: Depends on container host
	Compiler: gcc (Ubuntu 10.5.0-1ubuntu1~20.04) 10.5.0

To view detailed results, visit:
https://lab.dpdk.org/results/dashboard/patchsets/33086/

UNH-IOL DPDK Community Lab

To manage your email subscriptions, visit: 
https://lab.dpdk.org/results/dashboard/preferences/subscriptions/


More information about the test-report mailing list