|SUCCESS| [GIT MASTER] ca1690ebd224f148268285b15b97441ccdbdd07e

dpdklab at iol.unh.edu dpdklab at iol.unh.edu
Wed Apr 30 03:05:14 CEST 2025


_Testing PASS_

Branch: dpdk

ca1690ebd224f148268285b15b97441ccdbdd07e --> testing pass

Upstream job id: Aarch32-Unit-Test#6093

Test environment and result as below:

+-----------------------------+---------------------------+----------------+--------------+------------------------------+
|         Environment         | cryptodev_sw_zuc_autotest | dpdk_unit_test | lpm_autotest | cryptodev_sw_snow3g_autotest |
+=============================+===========================+================+==============+==============================+
| Debian 12 (arm)             | PASS                      | PASS           | SKIPPED      | PASS                         |
+-----------------------------+---------------------------+----------------+--------------+------------------------------+
| CentOS Stream 10 (ARM)      | SKIPPED                   | PASS           | SKIPPED      | SKIPPED                      |
+-----------------------------+---------------------------+----------------+--------------+------------------------------+
| Fedora 41 (ARM Clang)       | SKIPPED                   | PASS           | SKIPPED      | SKIPPED                      |
+-----------------------------+---------------------------+----------------+--------------+------------------------------+
| CentOS Stream 9 (ARM)       | SKIPPED                   | PASS           | SKIPPED      | SKIPPED                      |
+-----------------------------+---------------------------+----------------+--------------+------------------------------+
| Fedora 40 (ARM)             | SKIPPED                   | PASS           | SKIPPED      | SKIPPED                      |
+-----------------------------+---------------------------+----------------+--------------+------------------------------+
| RHEL9 (ARM)                 | SKIPPED                   | PASS           | SKIPPED      | SKIPPED                      |
+-----------------------------+---------------------------+----------------+--------------+------------------------------+
| Fedora 41 (ARM)             | SKIPPED                   | PASS           | SKIPPED      | SKIPPED                      |
+-----------------------------+---------------------------+----------------+--------------+------------------------------+
| Fedora 40 (ARM Clang)       | SKIPPED                   | PASS           | SKIPPED      | SKIPPED                      |
+-----------------------------+---------------------------+----------------+--------------+------------------------------+
| Ubuntu 24.04 (ARM)          | SKIPPED                   | PASS           | SKIPPED      | SKIPPED                      |
+-----------------------------+---------------------------+----------------+--------------+------------------------------+
| Ubuntu 22.04 (ARM)          | SKIPPED                   | PASS           | SKIPPED      | SKIPPED                      |
+-----------------------------+---------------------------+----------------+--------------+------------------------------+
| Ubuntu 20.04 (ARM)          | SKIPPED                   | PASS           | SKIPPED      | SKIPPED                      |
+-----------------------------+---------------------------+----------------+--------------+------------------------------+
| 32-bit Ubuntu 22.04.4 (ARM) | SKIPPED                   | PASS           | SKIPPED      | SKIPPED                      |
+-----------------------------+---------------------------+----------------+--------------+------------------------------+
| Ubuntu 20.04 ARM SVE        | SKIPPED                   | SKIPPED        | PASS         | SKIPPED                      |
+-----------------------------+---------------------------+----------------+--------------+------------------------------+


Debian 12 (arm)
	Kernel: Depends on container host
	Compiler: gcc (Debian 12.2.0-14) 12.2.0

CentOS Stream 10 (ARM)
	Kernel: Depends on container host
	Compiler: gcc 14.2.1 20241104 (Red Hat 14.2.1-6)

Fedora 41 (ARM Clang)
	Kernel: Depends on container host
	Compiler: clang 19.1.5 (Fedora 19.1.5-1.fc41)

CentOS Stream 9 (ARM)
	Kernel: Depends on container host
	Compiler: gcc 11.5.0 20240719 (Red Hat 11.5.0-2)

Fedora 40 (ARM)
	Kernel: Depends on container host
	Compiler: gcc 14.2.1 20240912 (Red Hat 14.2.1-3)

RHEL9 (ARM)
	Kernel: Depends on container host
	Compiler: gcc 11.5.0 20240719 (Red Hat 11.5.0-2)

Fedora 41 (ARM)
	Kernel: Depends on container host
	Compiler: gcc 14.2.1 20240912 (Red Hat 14.2.1-3)

Fedora 40 (ARM Clang)
	Kernel: Depends on container host
	Compiler: clang 18.1.8 (Fedora 18.1.8-1.fc40)

Ubuntu 24.04 (ARM)
	Kernel: Depends on container host
	Compiler: gcc (Ubuntu 13.3.0-6ubuntu2~24.04) 13.3.0

Ubuntu 22.04 (ARM)
	Kernel: Depends on container host
	Compiler: gcc (Ubuntu 11.4.0-1ubuntu1~22.04) 11.4.0

Ubuntu 20.04 (ARM)
	Kernel: Depends on container host
	Compiler: gcc (Ubuntu 9.4.0-1ubuntu1~20.04.2) 9.4.0

32-bit Ubuntu 22.04.4 (ARM)
	Kernel: 5.15.83+ aarch64
	Compiler: gcc (Ubuntu 11.4.0-1ubuntu1~22.04) 11.4.0

Ubuntu 20.04 ARM SVE
	Kernel: Depends on container host
	Compiler: gcc (Ubuntu 10.5.0-1ubuntu1~20.04) 10.5.0

To view detailed results, visit:
https://lab.dpdk.org/results/dashboard/tarballs/33392/

UNH-IOL DPDK Community Lab

To manage your email subscriptions, visit: 
https://lab.dpdk.org/results/dashboard/preferences/subscriptions/


More information about the test-report mailing list