|SUCCESS| pw153191-153192 [PATCH] [v3,2/2] drivers: add support for

dpdklab at iol.unh.edu dpdklab at iol.unh.edu
Wed Apr 30 14:45:55 CEST 2025


Test-Label: iol-sample-apps-testing
Test-Status: SUCCESS
http://dpdk.org/patch/153192

_Testing PASS_

Submitter: Kiran Kumar Kokkilagadda <kirankumark at marvell.com>
Date: Wednesday, April 30 2025 09:10:51 
DPDK git baseline: Repo:dpdk
  Branch: master
  CommitID:ff05ee3e3f8fb4ce958a2ce6461e8141aea959c6

153191-153192 --> testing pass

Upstream job id: ACVP-FIPS-testing#9678

Test environment and result as below:

+--------------------+----------------------+----------------------+
|    Environment     | compressdev_zlib_pmd | dpdk_fips_validation |
+====================+======================+======================+
| Ubuntu 22.04 (ARM) | PASS                 | SKIPPED              |
+--------------------+----------------------+----------------------+
| Ubuntu 22.04       | PASS                 | SKIPPED              |
+--------------------+----------------------+----------------------+
| Ubuntu 20.04       | SKIPPED              | PASS                 |
+--------------------+----------------------+----------------------+


Ubuntu 22.04 (ARM)
	Kernel: 5.15.0-97-generic
	Compiler: gcc gcc (Ubuntu 11.4.0-1ubuntu1~22.04) 11.4.0

Ubuntu 22.04
	Kernel: 5.15.0-100-generic
	Compiler: gcc gcc (Ubuntu 11.4.0-1ubuntu1~22.04) 11.4.0

Ubuntu 20.04
	Kernel: Depends on container host
	Compiler: gcc (Ubuntu 9.4.0-1ubuntu1~20.04.2) 9.4.0

To view detailed results, visit:
https://lab.dpdk.org/results/dashboard/patchsets/33090/

UNH-IOL DPDK Community Lab

To manage your email subscriptions, visit: 
https://lab.dpdk.org/results/dashboard/preferences/subscriptions/


More information about the test-report mailing list