|WARNING| pw150794-150795 [PATCH] [v4,2/2] common/idpf: enable AVX2
dpdklab at iol.unh.edu
dpdklab at iol.unh.edu
Mon Feb 3 11:32:12 CET 2025
Test-Label: iol-sample-apps-testing
Test-Status: WARNING
http://dpdk.org/patch/150795
_Testing issues_
Submitter: Shaiq Wani <shaiq.wani at intel.com>
Date: Monday, February 03 2025 05:24:30
DPDK git baseline: Repo:dpdk
Branch: master
CommitID:abf3b7b7b361f8aa8d75ae00d449b588a0cdcda3
150794-150795 --> testing issues
Upstream job id: ACVP-FIPS-testing#8764
Test environment and result as below:
+--------------------+----------------------+----------------------+
| Environment | compressdev_zlib_pmd | dpdk_fips_validation |
+====================+======================+======================+
| Ubuntu 22.04 (ARM) | PASS | SKIPPED |
+--------------------+----------------------+----------------------+
| Ubuntu 22.04 | PASS | SKIPPED |
+--------------------+----------------------+----------------------+
| Ubuntu 20.04 | SKIPPED | WARN |
+--------------------+----------------------+----------------------+
==== 20 line log output for Ubuntu 20.04 (dpdk_fips_validation): ====
| ^
cc1: all warnings being treated as errors
[462/3171] Linking static target drivers/librte_common_iavf.a
[463/3171] Compiling C object drivers/librte_common_iavf.so.25.1.p/meson-generated_.._rte_common_iavf.pmd.c.o
[464/3171] Compiling C object drivers/libtmp_rte_common_idpf.a.p/common_idpf_idpf_common_virtchnl.c.o
[465/3171] Generating rte_common_cpt.sym_chk with a custom command (wrapped by meson to capture output)
[466/3171] Generating node.sym_chk with a custom command (wrapped by meson to capture output)
[467/3171] Compiling C object drivers/libtmp_rte_common_ionic.a.p/common_ionic_ionic_common_uio.c.o
[468/3171] Compiling C object drivers/libtmp_rte_common_octeontx.a.p/common_octeontx_octeontx_mbox.c.o
[469/3171] Compiling C object drivers/libtmp_rte_bus_auxiliary.a.p/bus_auxiliary_auxiliary_common.c.o
[470/3171] Compiling C object drivers/libtmp_rte_common_idpf.a.p/common_idpf_idpf_common_rxtx.c.o
[471/3171] Generating rte_common_dpaax.sym_chk with a custom command (wrapped by meson to capture output)
[472/3171] Compiling C object drivers/common/idpf/libidpf_common_avx512_lib.a.p/idpf_common_rxtx_avx512.c.o
[473/3171] Generating graph.sym_chk with a custom command (wrapped by meson to capture output)
[474/3171] Generating eal.sym_chk with a custom command (wrapped by meson to capture output)
[475/3171] Generating ethdev.sym_chk with a custom command (wrapped by meson to capture output)
[476/3171] Compiling C object lib/librte_pipeline.a.p/pipeline_rte_swx_pipeline.c.o
[477/3171] Compiling C object lib/librte_vhost.a.p/vhost_virtio_net.c.o
[478/3171] Compiling C object lib/librte_pipeline.a.p/pipeline_rte_table_action.c.o
ninja: build stopped: subcommand failed.
==== End log output ====
Ubuntu 22.04 (ARM)
Kernel: 5.15.0-97-generic
Compiler: gcc gcc (Ubuntu 11.4.0-1ubuntu1~22.04) 11.4.0
Ubuntu 22.04
Kernel: 5.15.0-100-generic
Compiler: gcc gcc (Ubuntu 11.4.0-1ubuntu1~22.04) 11.4.0
Ubuntu 20.04
Kernel: Depends on container host
Compiler: gcc (Ubuntu 9.4.0-1ubuntu1~20.04.2) 9.4.0
To view detailed results, visit:
https://lab.dpdk.org/results/dashboard/patchsets/32480/
UNH-IOL DPDK Community Lab
To manage your email subscriptions, visit:
https://lab.dpdk.org/results/dashboard/preferences/subscriptions/
More information about the test-report
mailing list