|SUCCESS| pw150902 [PATCH] [v2] eal: force compilation of RTE_ASSERT
dpdklab at iol.unh.edu
dpdklab at iol.unh.edu
Wed Feb 5 09:41:46 CET 2025
Test-Label: iol-compile-amd64-testing
Test-Status: SUCCESS
http://dpdk.org/patch/150902
_Testing PASS_
Submitter: Stephen Hemminger <stephen at networkplumber.org>
Date: Tuesday, February 04 2025 19:46:09
DPDK git baseline: Repo:dpdk
Branch: master
CommitID:dc4ce7c2538b713e16887eb598da309bc7b4d528
150902 --> testing pass
Upstream job id: Generic-DPDK-Compile-Meson#357838
Test environment and result as below:
+---------------------+-------------------+--------------------+------------------+-------------------+
| Environment | dpdk_msvc_compile | dpdk_meson_compile | dpdk_compile_ovs | dpdk_compile_spdk |
+=====================+===================+====================+==================+===================+
| Windows Server 2022 | PASS | SKIPPED | SKIPPED | SKIPPED |
+---------------------+-------------------+--------------------+------------------+-------------------+
| FreeBSD 13.4 | SKIPPED | PASS | SKIPPED | SKIPPED |
+---------------------+-------------------+--------------------+------------------+-------------------+
| FreeBSD 14.2 | SKIPPED | PASS | SKIPPED | SKIPPED |
+---------------------+-------------------+--------------------+------------------+-------------------+
| CentOS Stream 9 | SKIPPED | PASS | PASS | PASS |
+---------------------+-------------------+--------------------+------------------+-------------------+
| Debian Bullseye | SKIPPED | PASS | PASS | PASS |
+---------------------+-------------------+--------------------+------------------+-------------------+
| Debian 12 | SKIPPED | PASS | PASS | PASS |
+---------------------+-------------------+--------------------+------------------+-------------------+
| Fedora 40 (Clang) | SKIPPED | PASS | PASS | PASS |
+---------------------+-------------------+--------------------+------------------+-------------------+
| Fedora 40 | SKIPPED | PASS | PASS | PASS |
+---------------------+-------------------+--------------------+------------------+-------------------+
| Fedora 41 (Clang) | SKIPPED | PASS | PASS | PASS |
+---------------------+-------------------+--------------------+------------------+-------------------+
| Fedora 41 | SKIPPED | PASS | PASS | PASS |
+---------------------+-------------------+--------------------+------------------+-------------------+
| openSUSE Leap 15 | SKIPPED | PASS | SKIPPED | SKIPPED |
+---------------------+-------------------+--------------------+------------------+-------------------+
| RHEL8 | SKIPPED | PASS | PASS | SKIPPED |
+---------------------+-------------------+--------------------+------------------+-------------------+
| RHEL9 | SKIPPED | PASS | PASS | SKIPPED |
+---------------------+-------------------+--------------------+------------------+-------------------+
| Ubuntu 20.04 | SKIPPED | PASS | SKIPPED | SKIPPED |
+---------------------+-------------------+--------------------+------------------+-------------------+
| Ubuntu 22.04 | SKIPPED | PASS | PASS | PASS |
+---------------------+-------------------+--------------------+------------------+-------------------+
| Ubuntu 24.04 | SKIPPED | PASS | PASS | PASS |
+---------------------+-------------------+--------------------+------------------+-------------------+
| Alpine | SKIPPED | PASS | PASS | SKIPPED |
+---------------------+-------------------+--------------------+------------------+-------------------+
Windows Server 2022
Kernel: 10.0.20348.2031
Compiler: clang 15.0.7, gcc 14.1.0 (MinGW), and MSVC VS 19.39.33521
FreeBSD 13.4
Kernel: 13.4-RELEASE-p1
Compiler: clang 18.1.6
FreeBSD 14.2
Kernel: 14.2-RELEASE
Compiler: clang 18.1.6
CentOS Stream 9
Kernel: Depends on container host
Compiler: gcc 11.5.0 20240719 (Red Hat 11.5.0-2)
Debian Bullseye
Kernel: Depends on container host
Compiler: gcc (Debian 10.2.1-6) 10.2.1 20210110
Debian 12
Kernel: Depends on container host
Compiler: gcc (Debian 12.2.0-14) 12.2.0
Fedora 40 (Clang)
Kernel: Depends on container host
Compiler: clang 18.1.8 (Fedora 18.1.8-1.fc40)
Fedora 40
Kernel: Depends on container host
Compiler: gcc 14.2.1 20240912 (Red Hat 14.2.1-3)
Fedora 41 (Clang)
Kernel: Depends on container host
Compiler: clang 19.1.5 (Fedora 19.1.5-1.fc41)
Fedora 41
Kernel: Depends on container host
Compiler: gcc 14.2.1 20240912 (Red Hat 14.2.1-3)
openSUSE Leap 15
Kernel: Depends on container host
Compiler: gcc (SUSE Linux) 7.5.0
RHEL8
Kernel: Depends on container host
Compiler: gcc 8.5.0 20210514 (Red Hat 8.5.0-22)
RHEL9
Kernel: Depends on container host
Compiler: gcc 11.5.0 20240719 (Red Hat 11.5.0-2)
Ubuntu 20.04
Kernel: Depends on container host
Compiler: gcc (Ubuntu 9.4.0-1ubuntu1~20.04.2) 9.4.0
Ubuntu 22.04
Kernel: Depends on container host
Compiler: gcc (Ubuntu 11.4.0-1ubuntu1~22.04) 11.4.0
Ubuntu 24.04
Kernel: Depends on container host
Compiler: gcc (Ubuntu 13.3.0-6ubuntu2~24.04) 13.3.0
Alpine
Kernel: Depends on container host
Compiler: gcc (Alpine 14.2.0) 14.2.0
To view detailed results, visit:
https://lab.dpdk.org/results/dashboard/patchsets/32493/
UNH-IOL DPDK Community Lab
To manage your email subscriptions, visit:
https://lab.dpdk.org/results/dashboard/preferences/subscriptions/
More information about the test-report
mailing list