|SUCCESS| [GIT MASTER] 388b1abe291544106e406cb0a200b5b0c96fe599

dpdklab at iol.unh.edu dpdklab at iol.unh.edu
Sat Feb 8 05:36:18 CET 2025


_Testing PASS_

Branch: dpdk

388b1abe291544106e406cb0a200b5b0c96fe599 --> testing pass

Upstream job id: Windows-Compile-DPDK-Native#26545

Test environment and result as below:

+---------------------+--------------------+-------------------+-------------------------+----------------------+
|     Environment     | dpdk_meson_compile | dpdk_msvc_compile | dpdk_llvm_clang_compile | dpdk_mingw64_compile |
+=====================+====================+===================+=========================+======================+
| FreeBSD 13.4        | PASS               | SKIPPED           | SKIPPED                 | SKIPPED              |
+---------------------+--------------------+-------------------+-------------------------+----------------------+
| FreeBSD 14.2        | PASS               | SKIPPED           | SKIPPED                 | SKIPPED              |
+---------------------+--------------------+-------------------+-------------------------+----------------------+
| Windows Server 2022 | SKIPPED            | PASS              | PASS                    | PASS                 |
+---------------------+--------------------+-------------------+-------------------------+----------------------+


FreeBSD 13.4
	Kernel: 13.4-RELEASE-p1
	Compiler: clang 18.1.6

FreeBSD 14.2
	Kernel: 14.2-RELEASE
	Compiler: clang 18.1.6

Windows Server 2022
	Kernel: 10.0.20348.2031
	Compiler: clang 15.0.7, gcc 14.1.0 (MinGW), and MSVC VS 19.39.33521

To view detailed results, visit:
https://lab.dpdk.org/results/dashboard/tarballs/32502/

UNH-IOL DPDK Community Lab

To manage your email subscriptions, visit: 
https://lab.dpdk.org/results/dashboard/preferences/subscriptions/


More information about the test-report mailing list