|SUCCESS| [GIT MASTER] d4d1e6c55a2f17785ee6be361599e1c5ab28f0fb

dpdklab at iol.unh.edu dpdklab at iol.unh.edu
Tue Feb 11 09:09:09 CET 2025


_Testing PASS_

Branch: dpdk-next-net

d4d1e6c55a2f17785ee6be361599e1c5ab28f0fb --> testing pass

Upstream job id: Generic-VM-DPDK-Compile-Meson#33228

Test environment and result as below:

+---------------------+--------------------+-------------------+
|     Environment     | dpdk_meson_compile | dpdk_msvc_compile |
+=====================+====================+===================+
| FreeBSD 13.4        | PASS               | SKIPPED           |
+---------------------+--------------------+-------------------+
| FreeBSD 14.2        | PASS               | SKIPPED           |
+---------------------+--------------------+-------------------+
| Windows Server 2022 | SKIPPED            | PASS              |
+---------------------+--------------------+-------------------+


FreeBSD 13.4
	Kernel: 13.4-RELEASE-p1
	Compiler: clang 18.1.6

FreeBSD 14.2
	Kernel: 14.2-RELEASE
	Compiler: clang 18.1.6

Windows Server 2022
	Kernel: 10.0.20348.2031
	Compiler: clang 15.0.7, gcc 14.1.0 (MinGW), and MSVC VS 19.39.33521

To view detailed results, visit:
https://lab.dpdk.org/results/dashboard/tarballs/32539/

UNH-IOL DPDK Community Lab

To manage your email subscriptions, visit: 
https://lab.dpdk.org/results/dashboard/preferences/subscriptions/


More information about the test-report mailing list